BEGIN:VCALENDAR
VERSION:2.0
PRODID:-//HasGeek//NONSGML Funnel//EN
DESCRIPTION:The goal of this workshop is to equip our students with hands-
 on information on  - Measure - Mitigate - Maintain  the performance aspect
 s of a website or web application
X-WR-CALDESC:The goal of this workshop is to equip our students with hands
 -on information on  - Measure - Mitigate - Maintain  the performance aspec
 ts of a website or web application
NAME:Web performance - Beginners
X-WR-CALNAME:Web performance - Beginners
REFRESH-INTERVAL;VALUE=DURATION:PT12H
SUMMARY:Web performance - Beginners
TIMEZONE-ID:Asia/Kolkata
X-PUBLISHED-TTL:PT12H
X-WR-TIMEZONE:Asia/Kolkata
BEGIN:VEVENT
SUMMARY:Introduction to Instructor and students
DTSTART:20211203T050000Z
DTEND:20211203T053000Z
DTSTAMP:20260421T222430Z
UID:session/7SFzga3KswqyZzADWoMYA9@hasgeek.com
SEQUENCE:1
CREATED:20211004T024318Z
DESCRIPTION:Meet Pavithra Kodmad
LAST-MODIFIED:20230108T103046Z
LOCATION:Online
ORGANIZER;CN="Web Performance Workshops":MAILTO:no-reply@hasgeek.com
BEGIN:VALARM
ACTION:display
DESCRIPTION:Introduction to Instructor and students in 5 minutes
TRIGGER:-PT5M
END:VALARM
END:VEVENT
BEGIN:VEVENT
SUMMARY:Workshop - Introduction and importance of web performance
DTSTART:20211203T053000Z
DTEND:20211203T063000Z
DTSTAMP:20260421T222430Z
UID:session/8Nab5HYan3gJHS31nPxnoa@hasgeek.com
SEQUENCE:1
CREATED:20211004T024458Z
DESCRIPTION:Learn about what is web performance. Why is it so important? W
 hy is it so hard and how to start looking at making improvements.
LAST-MODIFIED:20230108T103046Z
LOCATION:Online
ORGANIZER;CN="Web Performance Workshops":MAILTO:no-reply@hasgeek.com
BEGIN:VALARM
ACTION:display
DESCRIPTION:Workshop - Introduction and importance of web performance in 5
  minutes
TRIGGER:-PT5M
END:VALARM
END:VEVENT
BEGIN:VEVENT
SUMMARY:Short break
DTSTART:20211203T063000Z
DTEND:20211203T064500Z
DTSTAMP:20260421T222430Z
UID:session/Ce68zsG7TDq41ficFDs18Q@hasgeek.com
SEQUENCE:0
CREATED:20211004T024538Z
LAST-MODIFIED:20211004T024538Z
LOCATION:Online
ORGANIZER;CN="Web Performance Workshops":MAILTO:no-reply@hasgeek.com
BEGIN:VALARM
ACTION:display
DESCRIPTION:Short break in 5 minutes
TRIGGER:-PT5M
END:VALARM
END:VEVENT
BEGIN:VEVENT
SUMMARY:Workshop - Activity on measurement
DTSTART:20211203T064500Z
DTEND:20211203T073000Z
DTSTAMP:20260421T222430Z
UID:session/7hZzrjTD8zA9X4Nq51p4At@hasgeek.com
SEQUENCE:0
CREATED:20211004T024646Z
LAST-MODIFIED:20211004T024646Z
LOCATION:Online
ORGANIZER;CN="Web Performance Workshops":MAILTO:no-reply@hasgeek.com
BEGIN:VALARM
ACTION:display
DESCRIPTION:Workshop - Activity on measurement in 5 minutes
TRIGGER:-PT5M
END:VALARM
END:VEVENT
BEGIN:VEVENT
SUMMARY:Lunch break
DTSTART:20211203T073000Z
DTEND:20211203T081500Z
DTSTAMP:20260421T222430Z
UID:session/UWhUniNJza7XnsfdvBVijT@hasgeek.com
SEQUENCE:0
CREATED:20211004T024724Z
LAST-MODIFIED:20211004T024724Z
LOCATION:Online
ORGANIZER;CN="Web Performance Workshops":MAILTO:no-reply@hasgeek.com
BEGIN:VALARM
ACTION:display
DESCRIPTION:Lunch break in 5 minutes
TRIGGER:-PT5M
END:VALARM
END:VEVENT
BEGIN:VEVENT
SUMMARY:QnA
DTSTART:20211203T081500Z
DTEND:20211203T083000Z
DTSTAMP:20260421T222430Z
UID:session/Y1sPZ3m5DXFU6CxiycMFN3@hasgeek.com
SEQUENCE:0
CREATED:20211004T024811Z
LAST-MODIFIED:20211004T024811Z
LOCATION:Online
ORGANIZER;CN="Web Performance Workshops":MAILTO:no-reply@hasgeek.com
BEGIN:VALARM
ACTION:display
DESCRIPTION:QnA in 5 minutes
TRIGGER:-PT5M
END:VALARM
END:VEVENT
BEGIN:VEVENT
SUMMARY:Workshop - Render blocking and loading priorities
DTSTART:20211203T083000Z
DTEND:20211203T091500Z
DTSTAMP:20260421T222430Z
UID:session/H8fbnQLhQVU5jNWbL3srpG@hasgeek.com
SEQUENCE:0
CREATED:20211004T024750Z
LAST-MODIFIED:20211004T024802Z
LOCATION:Online
ORGANIZER;CN="Web Performance Workshops":MAILTO:no-reply@hasgeek.com
BEGIN:VALARM
ACTION:display
DESCRIPTION:Workshop - Render blocking and loading priorities in 5 minutes
TRIGGER:-PT5M
END:VALARM
END:VEVENT
BEGIN:VEVENT
SUMMARY:Short break
DTSTART:20211203T091500Z
DTEND:20211203T093000Z
DTSTAMP:20260421T222430Z
UID:session/ERGjVqGT39whXm5bQBD2fZ@hasgeek.com
SEQUENCE:0
CREATED:20211004T024844Z
LAST-MODIFIED:20211004T024844Z
LOCATION:Online
ORGANIZER;CN="Web Performance Workshops":MAILTO:no-reply@hasgeek.com
BEGIN:VALARM
ACTION:display
DESCRIPTION:Short break in 5 minutes
TRIGGER:-PT5M
END:VALARM
END:VEVENT
BEGIN:VEVENT
SUMMARY:Workshop - Beyond first page load
DTSTART:20211203T093000Z
DTEND:20211203T101500Z
DTSTAMP:20260421T222430Z
UID:session/C55De3LcGXzKsKSins6sAB@hasgeek.com
SEQUENCE:0
CREATED:20211004T024901Z
LAST-MODIFIED:20211004T024901Z
LOCATION:Online
ORGANIZER;CN="Web Performance Workshops":MAILTO:no-reply@hasgeek.com
BEGIN:VALARM
ACTION:display
DESCRIPTION:Workshop - Beyond first page load in 5 minutes
TRIGGER:-PT5M
END:VALARM
END:VEVENT
BEGIN:VEVENT
SUMMARY:QnA and concluding workshop
DTSTART:20211203T101500Z
DTEND:20211203T104500Z
DTSTAMP:20260421T222430Z
UID:session/8RApyck9wjUumJi8SWFkrX@hasgeek.com
SEQUENCE:0
CREATED:20211004T024926Z
LAST-MODIFIED:20211004T024926Z
LOCATION:Online
ORGANIZER;CN="Web Performance Workshops":MAILTO:no-reply@hasgeek.com
BEGIN:VALARM
ACTION:display
DESCRIPTION:QnA and concluding workshop in 5 minutes
TRIGGER:-PT5M
END:VALARM
END:VEVENT
END:VCALENDAR
