BEGIN:VCALENDAR
VERSION:2.0
PRODID:-//HasGeek//NONSGML Funnel//EN
DESCRIPTION:XXXXXXXX
X-WR-CALDESC:XXXXXXXX
NAME:XXXXXXXX
X-WR-CALNAME:XXXXXXXX
REFRESH-INTERVAL;VALUE=DURATION:PT12H
SUMMARY:XXXXXXXX
TIMEZONE-ID:Asia/Kolkata
X-PUBLISHED-TTL:PT12H
X-WR-TIMEZONE:Asia/Kolkata
BEGIN:VEVENT
SUMMARY:XXXXXXXX
DTSTART:20220822T090500Z
DTEND:20220824T090500Z
DTSTAMP:20260421T222450Z
UID:session/ANsjGBHmi4t3STU1pSMGKe@hasgeek.com
SEQUENCE:7
CREATED:20220822T090615Z
DESCRIPTION:XXXXXXXX
LAST-MODIFIED:20230108T102931Z
LOCATION:Online - https://hasgeek.com/universeconf/xxxxxxxx/
ORGANIZER;CN=UniverseConf:MAILTO:no-reply@hasgeek.com
URL:https://hasgeek.com/universeconf/xxxxxxxx/
BEGIN:VALARM
ACTION:display
DESCRIPTION:XXXXXXXX in 5 minutes
TRIGGER:-PT5M
END:VALARM
END:VEVENT
END:VCALENDAR
