BEGIN:VCALENDAR
VERSION:2.0
PRODID:-//HasGeek//NONSGML Funnel//EN
DESCRIPTION:Technology\, trust and elections
X-WR-CALDESC:Technology\, trust and elections
NAME:TwoVotes
X-WR-CALNAME:TwoVotes
REFRESH-INTERVAL;VALUE=DURATION:PT12H
SUMMARY:TwoVotes
TIMEZONE-ID:Asia/Kolkata
X-PUBLISHED-TTL:PT12H
X-WR-TIMEZONE:Asia/Kolkata
BEGIN:VEVENT
SUMMARY:TwoVotes
DTSTART:20240320T120100Z
DTEND:20240320T130100Z
DTSTAMP:20260421T192250Z
UID:session/RAR9yk93U7t8c5z2EiEMo9@hasgeek.com
SEQUENCE:48
CREATED:20240319T120349Z
DESCRIPTION:One Vote is an initiative to examine a diverse set of inputs a
 nd perspectives regarding the introduction and evolution of technology as 
 part of the elections. We use public discourse\, deliberations and reports
  to raise awareness about this topic for a lay audience. One Vote is desig
 ned to enable creating a framework - a mental model by which aspects of re
 sponsible technology can be reviewed in terms of fairness\, transparency\,
  equity\, inclusion and privacy among other rights.\n\n### Contact details
  \n\n\n### Citations and references for additional reading \n[^1]: 2018: [
 Draft Data Protection Bill\, 2021](http://164.100.47.193/lsscommittee/Join
 t%20Committee%20on%20the%20Personal%20Data%20Protection%20Bill\,%202019/17
 _Joint_Committee_on_the_Personal_Data_Protection_Bill_2019_1.pdf )\n\n[^2]
 : Draft Data Protection Bill\, 2021: [PDF](http://164.100.47.193/lsscommit
 tee/Joint%20Committee%20on%20the%20Personal%20Data%20Protection%20Bill\,%2
 02019/17_Joint_Committee_on_the_Personal_Data_Protection_Bill_2019_1.pdf )
 \n\n[^3]: Seetharaman\, Bhavani: “Understanding innovation in the Indian
  tech ecosystem” published at [msme.gov.in](https://msme.gov.in/know-abo
 ut-msme). Specifically\, see the chapter on the impact of policy on entrep
 reneurs in non-urban ecosystems - [Mozilla Open Innovation Project: Unders
 tanding Innovation in the Indian Tech Ecosystem ](https://has.gy/ipSo).\n 
LAST-MODIFIED:20240430T061340Z
LOCATION:Online - https://hasgeek.com/universeconf/twovotes/
ORGANIZER;CN=UniverseConf:MAILTO:no-reply@hasgeek.com
URL:https://hasgeek.com/universeconf/twovotes/
BEGIN:VALARM
ACTION:display
DESCRIPTION:TwoVotes in 5 minutes
TRIGGER:-PT5M
END:VALARM
END:VEVENT
END:VCALENDAR
