BEGIN:VCALENDAR
VERSION:2.0
PRODID:-//HasGeek//NONSGML Funnel//EN
DESCRIPTION:Look at the form!
X-WR-CALDESC:Look at the form!
NAME:Custom form project
X-WR-CALNAME:Custom form project
REFRESH-INTERVAL;VALUE=DURATION:PT12H
SUMMARY:Custom form project
TIMEZONE-ID:Asia/Kolkata
X-PUBLISHED-TTL:PT12H
X-WR-TIMEZONE:Asia/Kolkata
BEGIN:VEVENT
SUMMARY:Custom form project
DTSTART:20300102T063000Z
DTEND:20300103T063000Z
DTSTAMP:20260421T202359Z
UID:session/FovpsdGWyiKhWRQKxkURe@hasgeek.com
SEQUENCE:5
CREATED:20230805T130851Z
DESCRIPTION:This doesn't matter. We're here for the form.
LAST-MODIFIED:20231030T142018Z
LOCATION:Online - https://hasgeek.com/universeconf/custom-form-project/
ORGANIZER;CN=UniverseConf:MAILTO:no-reply@hasgeek.com
URL:https://hasgeek.com/universeconf/custom-form-project/
BEGIN:VALARM
ACTION:display
DESCRIPTION:Custom form project in 5 minutes
TRIGGER:-PT5M
END:VALARM
END:VEVENT
END:VCALENDAR
