BEGIN:VCALENDAR
VERSION:2.0
PRODID:-//HasGeek//NONSGML Funnel//EN
DESCRIPTION:Homage to the great calligrapher\, poet\, designer\, researche
 r and academician
X-WR-CALDESC:Homage to the great calligrapher\, poet\, designer\, research
 er and academician
NAME:Aksharyog: Tribute to Prof R.K. Joshi on his birth anniversary
X-WR-CALNAME:Aksharyog: Tribute to Prof R.K. Joshi on his birth anniversar
 y
REFRESH-INTERVAL;VALUE=DURATION:PT12H
SUMMARY:Aksharyog: Tribute to Prof R.K. Joshi on his birth anniversary
TIMEZONE-ID:Asia/Kolkata
X-PUBLISHED-TTL:PT12H
X-WR-TIMEZONE:Asia/Kolkata
BEGIN:VEVENT
SUMMARY:Aksharyog: Tribute to Prof R.K. Joshi on his birth anniversary
DTSTART:20220222T113000Z
DTEND:20220222T123000Z
DTSTAMP:20260421T175459Z
UID:session/YT3sLBPdi6XZ6Dg16k5DJD@hasgeek.com
SEQUENCE:6
CREATED:20220216T052907Z
DESCRIPTION:Prof R K Joshi (1936-2008) was a calligrapher\, poet\, designe
 r\, researcher and academician. Some of his notable works include the symb
 ols and logos for Welcome Group\, Punjab National Bank\, CEAT tyres\, Indi
 a Post\, Chimanlals\, Default fonts for Microsoft etc. He was a professor 
 at IDC\, IIT Bombay and mentored generations of designers. His former stud
 ents and colleagues will be sharing their memories about his on 22nd Feb\,
  his birth anniversary. Speakers include Achyut Palav\, VInay Saynekar\, S
 antosh Kshirsagar\, S.K. Mohanty\, Tarun Deep Girdher\, D.Udayakumar\, G.V
 . Sreekumar etc. More info at: https://docs.microsoft.com/en-us/typography
 /font-list/mangal\, https://gvsree.blogspot.com/2008/02/death-of-type.html
 \,  https://web.archive.org/web/20101213105621/http://atypi.org/30_past_co
 nferences/06_Lisbon/30_program/40_speakers/view_person_html?personid=407\,
  https://en.wikipedia.org/wiki/R_K_Joshi\, https://www.dsource.in/showcase
 /professor-r-k-joshi/interview\, http://luc.devroye.org/fonts-38028.html
LAST-MODIFIED:20230108T102931Z
LOCATION:online - https://hasgeek.com/tsi/rkjoshi/
ORGANIZER;CN="Typography Society of India":MAILTO:no-reply@hasgeek.com
URL:https://hasgeek.com/tsi/rkjoshi/
BEGIN:VALARM
ACTION:display
DESCRIPTION:Aksharyog: Tribute to Prof R.K. Joshi on his birth anniversary
  in 5 minutes
TRIGGER:-PT5M
END:VALARM
END:VEVENT
END:VCALENDAR
