BEGIN:VCALENDAR
VERSION:2.0
PRODID:-//HasGeek//NONSGML Funnel//EN
DESCRIPTION:Typography Society of India Lecture Series
X-WR-CALDESC:Typography Society of India Lecture Series
NAME:Redesign of Hindustan Times - First Voice. Last Word.
X-WR-CALNAME:Redesign of Hindustan Times - First Voice. Last Word.
REFRESH-INTERVAL;VALUE=DURATION:PT12H
SUMMARY:Redesign of Hindustan Times - First Voice. Last Word.
TIMEZONE-ID:Asia/Kolkata
X-PUBLISHED-TTL:PT12H
X-WR-TIMEZONE:Asia/Kolkata
BEGIN:VEVENT
SUMMARY:Introduction to Typography Society of India\; introduction to the 
 speaker
DTSTART:20200926T113000Z
DTEND:20200926T113500Z
DTSTAMP:20260421T175929Z
UID:session/5MynrJh7JkWvVAj8fPRiAb@hasgeek.com
SEQUENCE:0
CREATED:20200923T051149Z
DESCRIPTION:\n
LAST-MODIFIED:20200923T051207Z
LOCATION:Online
ORGANIZER;CN="Typography Society of India":MAILTO:no-reply@hasgeek.com
BEGIN:VALARM
ACTION:display
DESCRIPTION:Introduction to Typography Society of India\; introduction to 
 the speaker in 5 minutes
TRIGGER:-PT5M
END:VALARM
END:VEVENT
BEGIN:VEVENT
SUMMARY:Redesign of Hindustan Times - First Voice. Last Word.
DTSTART:20200926T113500Z
DTEND:20200926T122000Z
DTSTAMP:20260421T175929Z
UID:session/24HSWkYn1nsEDjUXa4BzSP@hasgeek.com
SEQUENCE:0
CREATED:20200923T051336Z
DESCRIPTION:\n
LAST-MODIFIED:20200923T052139Z
LOCATION:Online
ORGANIZER;CN="Typography Society of India":MAILTO:no-reply@hasgeek.com
BEGIN:VALARM
ACTION:display
DESCRIPTION:Redesign of Hindustan Times - First Voice. Last Word. in 5 min
 utes
TRIGGER:-PT5M
END:VALARM
END:VEVENT
BEGIN:VEVENT
SUMMARY:Q&A session
DTSTART:20200926T122000Z
DTEND:20200926T124500Z
DTSTAMP:20260421T175929Z
UID:session/FJqZ31nmiXRAg91eB2p1hL@hasgeek.com
SEQUENCE:0
CREATED:20200923T051401Z
DESCRIPTION:\n
LAST-MODIFIED:20200923T051404Z
LOCATION:Online
ORGANIZER;CN="Typography Society of India":MAILTO:no-reply@hasgeek.com
BEGIN:VALARM
ACTION:display
DESCRIPTION:Q&A session in 5 minutes
TRIGGER:-PT5M
END:VALARM
END:VEVENT
BEGIN:VEVENT
SUMMARY:Summary and conclusion
DTSTART:20200926T124500Z
DTEND:20200926T125000Z
DTSTAMP:20260421T175929Z
UID:session/WigFSzY97P2zbhG1skU8Fx@hasgeek.com
SEQUENCE:0
CREATED:20200923T051419Z
DESCRIPTION:\n
LAST-MODIFIED:20200923T051419Z
LOCATION:Online
ORGANIZER;CN="Typography Society of India":MAILTO:no-reply@hasgeek.com
BEGIN:VALARM
ACTION:display
DESCRIPTION:Summary and conclusion in 5 minutes
TRIGGER:-PT5M
END:VALARM
END:VEVENT
END:VCALENDAR
