BEGIN:VCALENDAR
VERSION:2.0
PRODID:-//HasGeek//NONSGML Funnel//EN
DESCRIPTION:Case study of Balcony - a font inspired by safety grilles
X-WR-CALDESC:Case study of Balcony - a font inspired by safety grilles
NAME:View from the Balcony-Story of a font with a difference
X-WR-CALNAME:View from the Balcony-Story of a font with a difference
REFRESH-INTERVAL;VALUE=DURATION:PT12H
SUMMARY:View from the Balcony-Story of a font with a difference
TIMEZONE-ID:Asia/Kolkata
X-PUBLISHED-TTL:PT12H
X-WR-TIMEZONE:Asia/Kolkata
BEGIN:VEVENT
SUMMARY:Balcony - the story of a font with a difference
DTSTART:20211023T113000Z
DTEND:20211023T131500Z
DTSTAMP:20260421T193245Z
UID:session/4SRS7JWwK4hwjUWB7wrC3A@hasgeek.com
SEQUENCE:0
CREATED:20211019T054529Z
LAST-MODIFIED:20211019T054613Z
LOCATION:Online
ORGANIZER;CN="Typography Society of India":MAILTO:no-reply@hasgeek.com
BEGIN:VALARM
ACTION:display
DESCRIPTION:Balcony - the story of a font with a difference in 5 minutes
TRIGGER:-PT5M
END:VALARM
END:VEVENT
END:VCALENDAR
