BEGIN:VCALENDAR
VERSION:2.0
PRODID:-//HasGeek//NONSGML Funnel//EN
DESCRIPTION:A panel discussion with six top calligraphers of India on the 
 ocassion of World Calligraphy Day
X-WR-CALDESC:A panel discussion with six top calligraphers of India on the
  ocassion of World Calligraphy Day
NAME:Sulekhan 2024: A panel discussion on Calligraphy
X-WR-CALNAME:Sulekhan 2024: A panel discussion on Calligraphy
REFRESH-INTERVAL;VALUE=DURATION:PT12H
SUMMARY:Sulekhan 2024: A panel discussion on Calligraphy
TIMEZONE-ID:Asia/Kolkata
X-PUBLISHED-TTL:PT12H
X-WR-TIMEZONE:Asia/Kolkata
BEGIN:VEVENT
SUMMARY:Sulekhan 2024: A panel discussion on Calligraphy
DTSTART:20240814T123000Z
DTEND:20240814T133000Z
DTSTAMP:20260421T193255Z
UID:session/QKopcBjGjiHq9SkS8bAEfg@hasgeek.com
SEQUENCE:8
CREATED:20240810T104853Z
DESCRIPTION:Typography society of India presents Sulekhan 2024: A panel di
 scussion on Calligraphy. Participants: Achyut Palav\, Apurva Anand Bakshi\
 , Dilbag Singh\, Gitika Jain\, Raghunita Gupta and Tarun Deep Girdher. \n\
 nModerated by Prof G V Sreekumar.
LAST-MODIFIED:20240813T122014Z
LOCATION:Online - https://hasgeek.com/tsi/14aug/
ORGANIZER;CN="Typography Society of India":MAILTO:no-reply@hasgeek.com
URL:https://hasgeek.com/tsi/14aug/
BEGIN:VALARM
ACTION:display
DESCRIPTION:Sulekhan 2024: A panel discussion on Calligraphy in 5 minutes
TRIGGER:-PT5M
END:VALARM
END:VEVENT
END:VCALENDAR
