BEGIN:VCALENDAR
VERSION:2.0
PRODID:-//HasGeek//NONSGML Funnel//EN
DESCRIPTION:Export multiple HCL Notes NSF files data into multiple formats
  without a single error with the help of TrustVare NSF Converter Software.
X-WR-CALDESC:Export multiple HCL Notes NSF files data into multiple format
 s without a single error with the help of TrustVare NSF Converter Software
 .
NAME:TrustVare NSF Converter
X-WR-CALNAME:TrustVare NSF Converter
REFRESH-INTERVAL;VALUE=DURATION:PT12H
SUMMARY:TrustVare NSF Converter
TIMEZONE-ID:America/New_York
X-PUBLISHED-TTL:PT12H
X-WR-TIMEZONE:America/New_York
BEGIN:VEVENT
SUMMARY:TrustVare NSF Converter
DTSTART:20241014T071200Z
DTEND:20301231T071200Z
DTSTAMP:20260419T122521Z
UID:session/6YkVL8XbHDB23aaDhhbYUA@hasgeek.com
SEQUENCE:2
CREATED:20241014T071620Z
DESCRIPTION:The TrustVare NSF Converter Software is a simple and effective
  solution for exporting multiple emails and attachments from HCL Notes NSF
  files to other formats without any technical issues. Technical and non-te
 chnical users use it for converting NSF files to a range of formats but th
 ose who lack technical knowledge will find a basic graphic user interface 
 easily accessible. This program seeks to speed and simplify the Lotus Note
 s NSF data transmission from several entry points. This tool has a simple 
 interface and strong algorithms that help to simplify many formats\, inclu
 ding PST\, MBOX\, MSG\, EML\, MSG\, PDF\, HTML\, and MHTML formats\, which
  are supported for data transfer from NSF files. This converter applicatio
 n is adaptable and guarantees the preservation of emails and other data fr
 om NSF files.  This application will help to convert all data from NSF fil
 es including emails\, attachments\, contacts\, calendars\, diaries\, and t
 asks it constructs the appropriate split quite successfully. By including 
 instant features like the ability to recover emails from mistakes during t
 he conversion of NSF files to PST\, EML\, MSG\, MBOX\, and other formats\,
  this program also saves expensive experience and labor. The application a
 lso transforms encrypted or password-protected NSF files\, therefore ensur
 ing that data is only available to those with the necessary clearance. Use
 rs can move NSF data into Office 365\, AOL\, Gmail\, and Hotmail\, among o
 ther cloud services. At all times\, users of this NSF converter will have 
 access to customer care via email\, phone\, and live discussions. This too
 l also provides free demos to let people assess its features.\n\nMore info
 rmation get here: https://www.trustvare.com/nsf/
LAST-MODIFIED:20241014T071620Z
LOCATION:New York - https://hasgeek.com/trustvarehubsolution/trustvare-nsf
 -converter/
ORGANIZER;CN="TrustVare Hub Solution":MAILTO:no-reply@hasgeek.com
URL:https://hasgeek.com/trustvarehubsolution/trustvare-nsf-converter/
BEGIN:VALARM
ACTION:display
DESCRIPTION:TrustVare NSF Converter in 5 minutes
TRIGGER:-PT5M
END:VALARM
END:VEVENT
END:VCALENDAR
