BEGIN:VCALENDAR
VERSION:2.0
PRODID:-//HasGeek//NONSGML Funnel//EN
DESCRIPTION:What are the differences between public\, private data?
X-WR-CALDESC:What are the differences between public\, private data?
NAME:The Dangers of a Data Republic
X-WR-CALNAME:The Dangers of a Data Republic
REFRESH-INTERVAL;VALUE=DURATION:PT12H
SUMMARY:The Dangers of a Data Republic
TIMEZONE-ID:Asia/Kolkata
X-PUBLISHED-TTL:PT12H
X-WR-TIMEZONE:Asia/Kolkata
BEGIN:VEVENT
SUMMARY:The Dangers of a Data Republic: Discussion
DTSTART:20200420T140000Z
DTEND:20200420T143000Z
DTSTAMP:20260421T031723Z
UID:session/4bghiuiNvAgoJyPgWqDtKe@hasgeek.com
SEQUENCE:0
CREATED:20200420T134758Z
DESCRIPTION:\n
LAST-MODIFIED:20200420T134931Z
LOCATION:Online
ORGANIZER;CN=thus.:MAILTO:no-reply@hasgeek.com
BEGIN:VALARM
ACTION:display
DESCRIPTION:The Dangers of a Data Republic: Discussion in 5 minutes
TRIGGER:-PT5M
END:VALARM
END:VEVENT
BEGIN:VEVENT
SUMMARY:Q&A
DTSTART:20200420T143000Z
DTEND:20200420T144000Z
DTSTAMP:20260421T031723Z
UID:session/JBqQcZirTowUW3NvxYhs8f@hasgeek.com
SEQUENCE:0
CREATED:20200420T134814Z
DESCRIPTION:\n
LAST-MODIFIED:20200420T134939Z
LOCATION:Online
ORGANIZER;CN=thus.:MAILTO:no-reply@hasgeek.com
BEGIN:VALARM
ACTION:display
DESCRIPTION:Q&A in 5 minutes
TRIGGER:-PT5M
END:VALARM
END:VEVENT
END:VCALENDAR
