BEGIN:VCALENDAR
VERSION:2.0
PRODID:-//HasGeek//NONSGML Funnel//EN
DESCRIPTION:Solving food safety problems using technology 4.0
X-WR-CALDESC:Solving food safety problems using technology 4.0
NAME:Tech4Food - How fresh is your food?
X-WR-CALNAME:Tech4Food - How fresh is your food?
REFRESH-INTERVAL;VALUE=DURATION:PT12H
SUMMARY:Tech4Food - How fresh is your food?
TIMEZONE-ID:Asia/Kolkata
X-PUBLISHED-TTL:PT12H
X-WR-TIMEZONE:Asia/Kolkata
BEGIN:VEVENT
SUMMARY:Welcome Note and Opening Remarks
DTSTART:20230923T043000Z
DTEND:20230923T050000Z
DTSTAMP:20260421T210752Z
UID:session/RXkJDzM7WRvs3NmwSZzR8p@hasgeek.com
SEQUENCE:2
CREATED:20230920T134604Z
LAST-MODIFIED:20231102T104845Z
LOCATION:Metro Cash and
ORGANIZER;CN=Tech4Food:MAILTO:no-reply@hasgeek.com
BEGIN:VALARM
ACTION:display
DESCRIPTION:Welcome Note and Opening Remarks in 5 minutes
TRIGGER:-PT5M
END:VALARM
END:VEVENT
BEGIN:VEVENT
SUMMARY:The Fresh Food Industry Challenges
DTSTART:20230923T050000Z
DTEND:20230923T053000Z
DTSTAMP:20260421T210752Z
UID:session/Bc9TvGn1YZRPwe98UGs2xk@hasgeek.com
SEQUENCE:3
CREATED:20230920T134708Z
LAST-MODIFIED:20231004T051416Z
LOCATION:Metro Cash and
ORGANIZER;CN=Tech4Food:MAILTO:no-reply@hasgeek.com
BEGIN:VALARM
ACTION:display
DESCRIPTION:The Fresh Food Industry Challenges in 5 minutes
TRIGGER:-PT5M
END:VALARM
END:VEVENT
BEGIN:VEVENT
SUMMARY:Reducing Fresh Food Inefficiencies
DTSTART:20230923T053000Z
DTEND:20230923T060000Z
DTSTAMP:20260421T210752Z
UID:session/KnhQx92RyqRi72sWrU3qk8@hasgeek.com
SEQUENCE:1
CREATED:20230920T134817Z
LAST-MODIFIED:20230920T134820Z
LOCATION:Metro Cash and
ORGANIZER;CN=Tech4Food:MAILTO:no-reply@hasgeek.com
BEGIN:VALARM
ACTION:display
DESCRIPTION:Reducing Fresh Food Inefficiencies in 5 minutes
TRIGGER:-PT5M
END:VALARM
END:VEVENT
BEGIN:VEVENT
SUMMARY:Break
DTSTART:20230923T060000Z
DTEND:20230923T061500Z
DTSTAMP:20260421T210752Z
UID:session/VBD6Ln5cFvYnq2oBvZxYz5@hasgeek.com
SEQUENCE:0
CREATED:20230920T134838Z
LAST-MODIFIED:20230920T134838Z
LOCATION:Metro Cash and
ORGANIZER;CN=Tech4Food:MAILTO:no-reply@hasgeek.com
BEGIN:VALARM
ACTION:display
DESCRIPTION:Break in 5 minutes
TRIGGER:-PT5M
END:VALARM
END:VEVENT
BEGIN:VEVENT
SUMMARY:Store and Warehouse Walk Through
DTSTART:20230923T061500Z
DTEND:20230923T070000Z
DTSTAMP:20260421T210752Z
UID:session/PnDv4uaC7tyDJhdNvaXuTp@hasgeek.com
SEQUENCE:0
CREATED:20230920T134919Z
LAST-MODIFIED:20230920T134919Z
LOCATION:Metro Cash and
ORGANIZER;CN=Tech4Food:MAILTO:no-reply@hasgeek.com
BEGIN:VALARM
ACTION:display
DESCRIPTION:Store and Warehouse Walk Through in 5 minutes
TRIGGER:-PT5M
END:VALARM
END:VEVENT
BEGIN:VEVENT
SUMMARY:QnA
DTSTART:20230923T070000Z
DTEND:20230923T073000Z
DTSTAMP:20260421T210752Z
UID:session/HtL1GRn8fi8UkxcQvQqhKP@hasgeek.com
SEQUENCE:0
CREATED:20230920T134954Z
DESCRIPTION:Open Session for the Audience
LAST-MODIFIED:20230920T134954Z
LOCATION:Metro Cash and
ORGANIZER;CN=Tech4Food:MAILTO:no-reply@hasgeek.com
BEGIN:VALARM
ACTION:display
DESCRIPTION:QnA in 5 minutes
TRIGGER:-PT5M
END:VALARM
END:VEVENT
BEGIN:VEVENT
SUMMARY:Closing Remarks
DTSTART:20230923T073000Z
DTEND:20230923T080000Z
DTSTAMP:20260421T210752Z
UID:session/GWoirtmeeUyanLj8hpouUj@hasgeek.com
SEQUENCE:0
CREATED:20230920T135012Z
LAST-MODIFIED:20230920T135012Z
LOCATION:Metro Cash and
ORGANIZER;CN=Tech4Food:MAILTO:no-reply@hasgeek.com
BEGIN:VALARM
ACTION:display
DESCRIPTION:Closing Remarks in 5 minutes
TRIGGER:-PT5M
END:VALARM
END:VEVENT
END:VCALENDAR
