BEGIN:VCALENDAR
VERSION:2.0
PRODID:-//HasGeek//NONSGML Funnel//EN
DESCRIPTION:Meet. Learn. Hack.
X-WR-CALDESC:Meet. Learn. Hack.
NAME:coDelhi
X-WR-CALNAME:coDelhi
REFRESH-INTERVAL;VALUE=DURATION:PT12H
SUMMARY:coDelhi
TIMEZONE-ID:Asia/Kolkata
X-PUBLISHED-TTL:PT12H
X-WR-TIMEZONE:Asia/Kolkata
BEGIN:VEVENT
SUMMARY:Introductions
DTSTART:20150328T033000Z
DTEND:20150328T035500Z
DTSTAMP:20260419T220637Z
UID:session/4PhpWqserh51WAeH6nHDbP@hasgeek.com
SEQUENCE:0
CREATED:20190706T044538Z
DESCRIPTION:\n
GEO:28.75260935;77.116111432524
LAST-MODIFIED:20190706T044538Z
LOCATION:Room - Delhi Technological University\nDelhi\nIN
ORGANIZER;CN=teamOSC:MAILTO:no-reply@hasgeek.com
BEGIN:VALARM
ACTION:display
DESCRIPTION:Introductions in Room in 5 minutes
TRIGGER:-PT5M
END:VALARM
END:VEVENT
BEGIN:VEVENT
SUMMARY:Introductions
DTSTART:20150329T033000Z
DTEND:20150329T035500Z
DTSTAMP:20260419T220637Z
UID:session/Wk3VQdGSAxtGXnJqXyp6yW@hasgeek.com
SEQUENCE:0
CREATED:20190706T044545Z
DESCRIPTION:\n
GEO:28.75260935;77.116111432524
LAST-MODIFIED:20190706T044545Z
LOCATION:Room - Delhi Technological University\nDelhi\nIN
ORGANIZER;CN=teamOSC:MAILTO:no-reply@hasgeek.com
BEGIN:VALARM
ACTION:display
DESCRIPTION:Introductions in Room in 5 minutes
TRIGGER:-PT5M
END:VALARM
END:VEVENT
END:VCALENDAR
