BEGIN:VCALENDAR
VERSION:2.0
PRODID:-//HasGeek//NONSGML Funnel//EN
DESCRIPTION:Effortlessly convert mbox to pst format and migrate MBOX to Of
 fice 365 and Exchange.
X-WR-CALDESC:Effortlessly convert mbox to pst format and migrate MBOX to O
 ffice 365 and Exchange.
NAME:MBOX to PST Converter
X-WR-CALNAME:MBOX to PST Converter
REFRESH-INTERVAL;VALUE=DURATION:PT12H
SUMMARY:MBOX to PST Converter
TIMEZONE-ID:Asia/Kolkata
X-PUBLISHED-TTL:PT12H
X-WR-TIMEZONE:Asia/Kolkata
BEGIN:VEVENT
SUMMARY:MBOX to PST Converter
DTSTART:20251126T075400Z
DTEND:20401226T075400Z
DTSTAMP:20260420T231239Z
UID:session/2TtDgF91q2Bw89XSYqDWan@hasgeek.com
SEQUENCE:6
CREATED:20251126T075955Z
DESCRIPTION:Easily and securely migrate your MBOX files to Outlook PST for
 mat with the Shoviv MBOX to PST Converter. This robust and feature-rich ut
 ility is engineered to handle large-scale conversions from numerous email 
 clients that use the MBOX format\, including Thunderbird\, Apple Mail\, Eu
 dora\, Postbox\, Opera Mail\, and many more.\n\nKey Features and Benefits\
 n1. Flawless MBOX to PST Conversion\nHigh Accuracy: Convert MBOX files dir
 ectly into a new or existing Outlook PST file format with guaranteed preci
 sion.\n\nBatch Processing: Load and convert multiple MBOX files simultaneo
 usly\, drastically reducing migration time.\n\nFolder Structure Maintained
 : The software intelligently preserves the original mailbox hierarchy and 
 structure\, ensuring your folders appear exactly as they did in the source
  client.\n\n2. Advanced Export Destinations\nThe tool goes beyond simple P
 ST conversion\, offering versatile export options:\n\nDirect to Live Excha
 nge: Migrate MBOX data straight into a Live Exchange Server mailbox.\n\nOf
 fice 365 Migration: Seamlessly export MBOX content into Microsoft 365/Exch
 ange Online mailboxes.\n\nOther File Formats: Convert MBOX items to EML an
 d MSG file formats for broader accessibility and archiving purposes.\n\n3.
  Data Integrity and Security\nComplete Data Preservation: All email proper
 ties—including To\, From\, Subject\, Cc\, Bcc\, date\, time\, and attach
 ments—are accurately maintained during the conversion process.\n\nNo Siz
 e Limitations: The tool efficiently processes MBOX files of any size witho
 ut compromising performance.\n\nPST Splitting: For easy management and to 
 avoid potential corruption issues with very large files\, the utility offe
 rs an option to split the resultant PST file into smaller\, manageable chu
 nks.\n\n4. User-Friendly Interface and Controls\nIntuitive GUI: A simple\,
  graphical user interface guides both technical and non-technical users th
 rough the conversion process effortlessly.\n\nData Preview: Before finaliz
 ing the migration\, you can preview the contents of the MBOX files\, allow
 ing you to verify data and select only the necessary items for conversion.
 \n\nItem Filtering: Utilize powerful filters based on date range and item 
 type to perform selective migration\, ensuring you only move the data you 
 truly need.\n\nHow It Works\nSelect MBOX Files: Add the MBOX files you wis
 h to convert.\n\nPreview Data: Review the content and select the folders/i
 tems for migration.\n\nChoose Destination: Select PST\, Live Exchange\, Of
 fice 365\, EML\, or MSG as the target.\n\nMap and Migrate: Apply necessary
  filters and initiate the conversion.\n\nThe Shoviv MBOX to PST Converter 
 is the ideal choice for individuals and organizations seeking a fast\, sec
 ure\, and comprehensive solution for their cross-platform email migration 
 needs.\n\nDownload the free demo version today to evaluate the functionali
 ty and ensure a smooth migration experience.\n\nPage: https://www.shoviv.c
 om/mbox-converter.html\n\nBlog: https://www.shoviv.com/how-to/export-mbox-
 to-pst-manually.php
LAST-MODIFIED:20251126T080508Z
LOCATION:India - https://hasgeek.com/shovivsoftwarepvtltd/mbox-to-pst-conv
 erter/
ORGANIZER;CN="Shoviv Software":MAILTO:no-reply@hasgeek.com
URL:https://hasgeek.com/shovivsoftwarepvtltd/mbox-to-pst-converter/
BEGIN:VALARM
ACTION:display
DESCRIPTION:MBOX to PST Converter in 5 minutes
TRIGGER:-PT5M
END:VALARM
END:VEVENT
END:VCALENDAR
