BEGIN:VCALENDAR
VERSION:2.0
PRODID:-//HasGeek//NONSGML Funnel//EN
DESCRIPTION:Responsible Data Science in Action
X-WR-CALDESC:Responsible Data Science in Action
NAME:Data Privacy by Design - Tally Case Study
X-WR-CALNAME:Data Privacy by Design - Tally Case Study
REFRESH-INTERVAL;VALUE=DURATION:PT12H
SUMMARY:Data Privacy by Design - Tally Case Study
TIMEZONE-ID:Asia/Kolkata
X-PUBLISHED-TTL:PT12H
X-WR-TIMEZONE:Asia/Kolkata
BEGIN:VEVENT
SUMMARY:Data Privacy By Design - Tally Case Study
DTSTART:20200826T123000Z
DTEND:20200826T133000Z
DTSTAMP:20260421T175453Z
UID:session/EypPfVbmPVctcGMrxnQkn4@hasgeek.com
SEQUENCE:2
CREATED:20200818T054133Z
DESCRIPTION:\n\n### Speaker bio\n\nKalpit Bio (Detailed)\n
LAST-MODIFIED:20230810T072606Z
LOCATION:Online
ORGANIZER;CN="Scribble Data":MAILTO:no-reply@hasgeek.com
BEGIN:VALARM
ACTION:display
DESCRIPTION:Data Privacy By Design - Tally Case Study in 5 minutes
TRIGGER:-PT5M
END:VALARM
END:VEVENT
END:VCALENDAR
