BEGIN:VCALENDAR
VERSION:2.0
PRODID:-//HasGeek//NONSGML Funnel//EN
DESCRIPTION:Free Inference on HuggingFace using an open source dataset
X-WR-CALDESC:Free Inference on HuggingFace using an open source dataset
NAME:The ICAT Query Competition
X-WR-CALNAME:The ICAT Query Competition
REFRESH-INTERVAL;VALUE=DURATION:PT12H
SUMMARY:The ICAT Query Competition
TIMEZONE-ID:Asia/Kolkata
X-PUBLISHED-TTL:PT12H
X-WR-TIMEZONE:Asia/Kolkata
BEGIN:VEVENT
SUMMARY:The ICAT Query Competition
DTSTART:20240928T080000Z
DTEND:20241008T123000Z
DTSTAMP:20260421T132359Z
UID:session/5yqHvQ6d8rhHM6SiVVTNqt@hasgeek.com
SEQUENCE:12
CREATED:20241002T202859Z
DESCRIPTION:- The ICAT Query HuggingFace space has to be queried - availab
 le on [https://huggingface.co/schematise]([https://huggingface.co/schemati
 se)\n  - Send in your unique queries and screenshots of the same to [info@
 schematise.tech](info@schematise.tech)\n\n- You should not have repeated t
 he query from the following list of search queries -\n  - termination\, co
 nfidentiality\, contributor license agreement\, non compete\, Gift deed\, 
 copyright licensing\, power purchase agreement\, governing law\, Investmen
 t Grant Agreement\, trademark\, ip licensing\, services agreement\, arbitr
 ation (also available on the Deepnote workspace).\n  - You should take a s
 creenshot of the query you have made and it should have at least 1 (one) r
 esult from the pipeline. Send all your unique queries and screenshots of t
 he results to [info@schematise.tech](info@schematise.tech).\n  - The compe
 tition **begins at 1 PM IST on 28th September\, 2024**. It will remain ope
 n till at least **6th October\, 2024**.\n  - The winners will be the top t
 wo participants with the most number of unique and new queries.\n  - Winne
 rs will be *announced via email to all participants on a day between **8th
  October\, 2024**.*\n
LAST-MODIFIED:20241002T203407Z
LOCATION:Online - https://hasgeek.com/schematise/the-icat-query-competitio
 n/
ORGANIZER;CN="Schematise Lex Data Analysis":MAILTO:no-reply@hasgeek.com
URL:https://hasgeek.com/schematise/the-icat-query-competition/
BEGIN:VALARM
ACTION:display
DESCRIPTION:The ICAT Query Competition in 5 minutes
TRIGGER:-PT5M
END:VALARM
END:VEVENT
END:VCALENDAR
