BEGIN:VCALENDAR
VERSION:2.0
PRODID:-//HasGeek//NONSGML Funnel//EN
DESCRIPTION:Building reliable and efficient software
X-WR-CALDESC:Building reliable and efficient software
NAME:Is Rust ready for enterprise adoption?
X-WR-CALNAME:Is Rust ready for enterprise adoption?
REFRESH-INTERVAL;VALUE=DURATION:PT12H
SUMMARY:Is Rust ready for enterprise adoption?
TIMEZONE-ID:Asia/Kolkata
X-PUBLISHED-TTL:PT12H
X-WR-TIMEZONE:Asia/Kolkata
BEGIN:VEVENT
SUMMARY:Is Rust language ready for enterprise adoption?
DTSTART:20220723T063000Z
DTEND:20220723T073000Z
DTSTAMP:20260421T125513Z
UID:session/BacGL6SQhgY5MWpZsbDjAk@hasgeek.com
SEQUENCE:4
CREATED:20220720T073933Z
LAST-MODIFIED:20220720T170530Z
LOCATION:Open space (ground floor) - NIMHANS Convention Centre\nBengaluru\
 nIN
ORGANIZER;CN="Enterprise Rust":MAILTO:no-reply@hasgeek.com
BEGIN:VALARM
ACTION:display
DESCRIPTION:Is Rust language ready for enterprise adoption? in Open space 
 (ground floor) in 5 minutes
TRIGGER:-PT5M
END:VALARM
END:VEVENT
END:VCALENDAR
