BEGIN:VCALENDAR
VERSION:2.0
PRODID:-//HasGeek//NONSGML Funnel//EN
DESCRIPTION:Zig & Rust Meetup
X-WR-CALDESC:Zig & Rust Meetup
NAME:Zig & Rust Meetup
X-WR-CALNAME:Zig & Rust Meetup
REFRESH-INTERVAL;VALUE=DURATION:PT12H
SUMMARY:Zig & Rust Meetup
TIMEZONE-ID:Asia/Kolkata
X-PUBLISHED-TTL:PT12H
X-WR-TIMEZONE:Asia/Kolkata
BEGIN:VEVENT
SUMMARY:Zig & Rust Meetup
DTSTART:20250301T053000Z
DTEND:20250301T083000Z
DTSTAMP:20260420T125752Z
UID:session/XaaDhTzvdhtT5hEVfoXKAB@hasgeek.com
SEQUENCE:10
CREATED:20250205T154653Z
DESCRIPTION:This meetup will be in collaboration with our friends\, Zig In
 dia. **To RSVP for the meetup\, please do so on the below link.**\nhttps:/
 /lu.ma/460w8v58\n\nWe will have one Zig and one Rust talk.\n\n**_NOTE_**: 
  **Submissions for the Rust talk can be made here as usual.**
LAST-MODIFIED:20250223T090643Z
LOCATION:E6Data\, Bangalore - https://hasgeek.com/rustbangalore/zig-rust-m
 eetup/
ORGANIZER;CN="Rust Bangalore":MAILTO:no-reply@hasgeek.com
URL:https://hasgeek.com/rustbangalore/zig-rust-meetup/
BEGIN:VALARM
ACTION:display
DESCRIPTION:Zig & Rust Meetup in 5 minutes
TRIGGER:-PT5M
END:VALARM
END:VEVENT
END:VCALENDAR
