BEGIN:VCALENDAR
VERSION:2.0
PRODID:-//HasGeek//NONSGML Funnel//EN
DESCRIPTION:October 2025 Rustacean meetup
X-WR-CALDESC:October 2025 Rustacean meetup
NAME:October 2025 Rustacean meetup
X-WR-CALNAME:October 2025 Rustacean meetup
REFRESH-INTERVAL;VALUE=DURATION:PT12H
SUMMARY:October 2025 Rustacean meetup
TIMEZONE-ID:Asia/Kolkata
X-PUBLISHED-TTL:PT12H
X-WR-TIMEZONE:Asia/Kolkata
BEGIN:VEVENT
SUMMARY:Hayasen: Embedded Rust Multi-Sensor Library
DTSTART:20251004T053000Z
DTEND:20251004T063000Z
DTSTAMP:20260420T130242Z
UID:session/5zfTjbadz2ygiBHVrMDikx@hasgeek.com
SEQUENCE:1
CREATED:20251003T055812Z
DESCRIPTION:# Introduction to Hayasen \n\nHayasen is an Embedded Rust libr
 ary that provides a unified\, type-safe interface designed to simplify int
 egration of multiple sensors in embedded systems. Currently\, it supports 
 inertial measurement units (IMUs) **MPU9250** and **MPU6050** and **MAX301
 02** Pulse Oximeter and Heart Rate Monitor\, compatible with any microcont
 roller board. The library abstracts hardware communication details like I2
 C\, providing reliable\, safe sensor access leveraging Rust’s concurrenc
 y and safety features. Hayasen is modular and actively developed\, with a 
 roadmap to extend support to more sensors and advanced capabilities such a
 s sensor fusion\, async/await support\, and integration with popular embed
 ded Rust frameworks. \n\nCurrently it has been tested on 2 boards \n\n1. T
 he glyph C6 Board (ESP32 C6 Mini based RISC-V)\n2. Nordic nRF52840 Develop
 ment Kit.\n\n## Important Links\n1. [GitHub (Main)](https://github.com/Vai
 shnav-Sabari-Girish/Hayasen)\n2. [GitHub (Example Programs)](https://githu
 b.com/Vaishnav-Sabari-Girish/Hayasen-Examples)\n3. [Crates.io](https://cra
 tes.io/crates/hayasen)\n4. [Lib.rs](https://lib.rs/crates/hayasen)\n5. [Li
 braries.io](https://libraries.io/cargo/hayasen)\n\n**Expected Talking Time
 ** : ~30 mins
LAST-MODIFIED:20251003T055818Z
LOCATION:Bengaluru
ORGANIZER;CN="Rust Bangalore":MAILTO:no-reply@hasgeek.com
URL:https://hasgeek.com/rustbangalore/october-2025-rustacean-meetup/schedu
 le/hayasen-embedded-rust-multi-sensor-library-5zfTjbadz2ygiBHVrMDikx
BEGIN:VALARM
ACTION:display
DESCRIPTION:Hayasen: Embedded Rust Multi-Sensor Library in 5 minutes
TRIGGER:-PT5M
END:VALARM
END:VEVENT
BEGIN:VEVENT
SUMMARY:Break
DTSTART:20251004T063000Z
DTEND:20251004T064500Z
DTSTAMP:20260420T130242Z
UID:session/2TQNa3bAHtJvyjjj8Nx9uQ@hasgeek.com
SEQUENCE:1
CREATED:20251003T055845Z
LAST-MODIFIED:20251003T055847Z
LOCATION:Bengaluru
ORGANIZER;CN="Rust Bangalore":MAILTO:no-reply@hasgeek.com
BEGIN:VALARM
ACTION:display
DESCRIPTION:Break in 5 minutes
TRIGGER:-PT5M
END:VALARM
END:VEVENT
BEGIN:VEVENT
SUMMARY:async rust on bare metal with embassy (continued)
DTSTART:20251004T064500Z
DTEND:20251004T080000Z
DTSTAMP:20260420T130242Z
UID:session/P3sm8mUiDLZQo9VvfRLiEV@hasgeek.com
SEQUENCE:3
CREATED:20251003T055823Z
DESCRIPTION:Estimated time of talk: 1hr\n\nThis talk will be a continuatio
 n of a talk in July.  In the last talk\, we explored no-std environment fo
 r embedded systems\, presentation as follows:\nhttps://drive.google.com/fi
 le/d/1vPWuA-qfqjN15FeaMawDxEdaVHG3igI9/view?usp=drive_link\n\nIn this talk
 \, we will dive into embassy (https://embassy.dev/) - an executor + ecosys
 tem for async rust for embedded systems.
LAST-MODIFIED:20251003T060002Z
LOCATION:Bengaluru
ORGANIZER;CN="Rust Bangalore":MAILTO:no-reply@hasgeek.com
URL:https://hasgeek.com/rustbangalore/october-2025-rustacean-meetup/schedu
 le/async-rust-on-bare-metal-with-embassy-continued-P3sm8mUiDLZQo9VvfRLiEV
BEGIN:VALARM
ACTION:display
DESCRIPTION:async rust on bare metal with embassy (continued) in 5 minutes
TRIGGER:-PT5M
END:VALARM
END:VEVENT
END:VCALENDAR
