BEGIN:VCALENDAR
VERSION:2.0
PRODID:-//HasGeek//NONSGML Funnel//EN
DESCRIPTION:October 2023 Rustacean meetup
X-WR-CALDESC:October 2023 Rustacean meetup
NAME:October 2023 Rustacean meetup
X-WR-CALNAME:October 2023 Rustacean meetup
REFRESH-INTERVAL;VALUE=DURATION:PT12H
SUMMARY:October 2023 Rustacean meetup
TIMEZONE-ID:Asia/Kolkata
X-PUBLISHED-TTL:PT12H
X-WR-TIMEZONE:Asia/Kolkata
BEGIN:VEVENT
SUMMARY:Container Internals | Building your own Docker in Rust
DTSTART:20231007T060000Z
DTEND:20231007T063000Z
DTSTAMP:20260420T130242Z
UID:session/RY3wG1V2eEZ3X41ZoWgyQg@hasgeek.com
SEQUENCE:2
CREATED:20231005T065257Z
DESCRIPTION:In this talk\, we will talk briefly about a high level overvie
 w of the various components involved in making up Docker such as runc and 
 containerd\, as well as dive a bit into how they work internally\, learnin
 g about APIs like namespaces and cgroups by building a small container run
 time in Rust.
LAST-MODIFIED:20231005T065306Z
LOCATION:Razorpay\, Bengaluru
ORGANIZER;CN="Rust Bangalore":MAILTO:no-reply@hasgeek.com
URL:https://hasgeek.com/rustbangalore/october-2023-rustacean-meetup/schedu
 le/container-internals-building-your-own-docker-in-rust-RY3wG1V2eEZ3X41ZoW
 gyQg
BEGIN:VALARM
ACTION:display
DESCRIPTION:Container Internals | Building your own Docker in Rust in 5 mi
 nutes
TRIGGER:-PT5M
END:VALARM
END:VEVENT
BEGIN:VEVENT
SUMMARY:State of Rust in the Linux kernel
DTSTART:20231007T064000Z
DTEND:20231007T071000Z
DTSTAMP:20260420T130242Z
UID:session/3DNPBKTByWE7fXiV4f3tHH@hasgeek.com
SEQUENCE:1
CREATED:20231005T065312Z
DESCRIPTION:Recently\, the Linux kernel added support for Rust. This talk 
 will discuss the evolution of Rust in the kernel: its early beginnings to 
 its current state\, and its potential impact on the future of the software
  stack. We will also explore\, how it works — how Rust is integrated int
 o the kernel's build system\, what you can do with it — code-browse thro
 ugh a couple of examples\, where it's headed\, and what it ultimately mean
 s for developers.
LAST-MODIFIED:20231005T065316Z
LOCATION:Razorpay\, Bengaluru
ORGANIZER;CN="Rust Bangalore":MAILTO:no-reply@hasgeek.com
URL:https://hasgeek.com/rustbangalore/october-2023-rustacean-meetup/schedu
 le/state-of-rust-in-the-linux-kernel-3DNPBKTByWE7fXiV4f3tHH
BEGIN:VALARM
ACTION:display
DESCRIPTION:State of Rust in the Linux kernel in 5 minutes
TRIGGER:-PT5M
END:VALARM
END:VEVENT
BEGIN:VEVENT
SUMMARY:Lightning talks
DTSTART:20231007T072000Z
DTEND:20231007T075000Z
DTSTAMP:20260420T130242Z
UID:session/Fd8kLkfR8oYYQDCusYQA6g@hasgeek.com
SEQUENCE:5
CREATED:20231005T065342Z
LAST-MODIFIED:20231006T070854Z
LOCATION:Razorpay\, Bengaluru
ORGANIZER;CN="Rust Bangalore":MAILTO:no-reply@hasgeek.com
BEGIN:VALARM
ACTION:display
DESCRIPTION:Lightning talks in 5 minutes
TRIGGER:-PT5M
END:VALARM
END:VEVENT
BEGIN:VEVENT
SUMMARY:Birds of a feather session
DTSTART:20231007T075000Z
DTEND:20231007T083000Z
DTSTAMP:20260420T130242Z
UID:session/6FAGU7aurXCQMDhU12p7iQ@hasgeek.com
SEQUENCE:3
CREATED:20231005T065422Z
LAST-MODIFIED:20231006T071203Z
LOCATION:Razorpay\, Bengaluru
ORGANIZER;CN="Rust Bangalore":MAILTO:no-reply@hasgeek.com
BEGIN:VALARM
ACTION:display
DESCRIPTION:Birds of a feather session in 5 minutes
TRIGGER:-PT5M
END:VALARM
END:VEVENT
END:VCALENDAR
