BEGIN:VCALENDAR
VERSION:2.0
PRODID:-//HasGeek//NONSGML Funnel//EN
DESCRIPTION:November 2023 Rustacean meetup 🇬🇧🇮🇳
X-WR-CALDESC:November 2023 Rustacean meetup 🇬🇧🇮🇳
NAME:November 2023 Rustacean meetup 🇬🇧🇮🇳
X-WR-CALNAME:November 2023 Rustacean meetup 🇬🇧🇮🇳
REFRESH-INTERVAL;VALUE=DURATION:PT12H
SUMMARY:November 2023 Rustacean meetup 🇬🇧🇮🇳
TIMEZONE-ID:Asia/Kolkata
X-PUBLISHED-TTL:PT12H
X-WR-TIMEZONE:Asia/Kolkata
BEGIN:VEVENT
SUMMARY:Rust in the Enterprise with Red Badger
DTSTART:20231118T083000Z
DTEND:20231118T103000Z
DTSTAMP:20260420T132509Z
UID:session/UBUb6f3pAqxzg6QmnLmeGn@hasgeek.com
SEQUENCE:2
CREATED:20231116T043001Z
LAST-MODIFIED:20231116T043021Z
LOCATION:Microsoft Reactor\, Lavelle Road\, Bengaluru
ORGANIZER;CN="Rust Bangalore":MAILTO:no-reply@hasgeek.com
BEGIN:VALARM
ACTION:display
DESCRIPTION:Rust in the Enterprise with Red Badger in 5 minutes
TRIGGER:-PT5M
END:VALARM
END:VEVENT
BEGIN:VEVENT
SUMMARY:External Blocks | Rust FFI
DTSTART:20231118T104000Z
DTEND:20231118T110500Z
DTSTAMP:20260420T132509Z
UID:session/JQUpAmKS6PnZmibkxkoty@hasgeek.com
SEQUENCE:4
CREATED:20231116T043202Z
DESCRIPTION:**NOTE**: This talk will be from Dhruvin Gandhi https://dhruvi
 n.dev/.\n\nExternal Blocks: Foundational to Rust's FFI story\, these are b
 uilding blocks provided by the language\, used to create abstractions on t
 op. In this talk\, we will explore what one needs to know to start writing
  language bindings to various libraries external to Rust.\n\nRust FFI: The
  talk-series will explore Rust FFI (Foreign Function Interface) ecosystem.
  Familiarity with Rust functions\, types\, and statics is assumed. It will
  mostly present unsafe code\, and ways to make safe(r) abstractions. It is
  intended for Rust library authors.\n\nSlides: https://talks.dhruvin.dev/r
 ustblr/index.html\n
LAST-MODIFIED:20231116T043245Z
LOCATION:Microsoft Reactor\, Lavelle Road\, Bengaluru
ORGANIZER;CN="Rust Bangalore":MAILTO:no-reply@hasgeek.com
URL:https://hasgeek.com/rustbangalore/november-2023-rustacean-meetup/sched
 ule/external-blocks-rust-ffi-JQUpAmKS6PnZmibkxkoty
BEGIN:VALARM
ACTION:display
DESCRIPTION:External Blocks | Rust FFI in 5 minutes
TRIGGER:-PT5M
END:VALARM
END:VEVENT
BEGIN:VEVENT
SUMMARY:Asynchronous IO - A deep dive
DTSTART:20231118T110500Z
DTEND:20231118T113000Z
DTSTAMP:20260420T132509Z
UID:session/2w8QeLEgXiGY8NmhuYGiR5@hasgeek.com
SEQUENCE:4
CREATED:20231116T043231Z
DESCRIPTION:This talk will be a deep dive on the asynchronous IO with rust
 . Things that will be covered are.\n- Evolution of web server architecture
 s.\n- Single threaded.\n- Multi threaded.\n- Async.\n  \nWe will also unde
 rstand the components of tokio\, and how it all fits in with the async eco
 system in rust.\n\nA short demo of a small web server written with MIO ( m
 etal IO\, a low level library used by tokio ) will be explained.
LAST-MODIFIED:20231116T043249Z
LOCATION:Microsoft Reactor\, Lavelle Road\, Bengaluru
ORGANIZER;CN="Rust Bangalore":MAILTO:no-reply@hasgeek.com
URL:https://hasgeek.com/rustbangalore/november-2023-rustacean-meetup/sched
 ule/asynchronous-io-a-deep-dive-2w8QeLEgXiGY8NmhuYGiR5
BEGIN:VALARM
ACTION:display
DESCRIPTION:Asynchronous IO - A deep dive in 5 minutes
TRIGGER:-PT5M
END:VALARM
END:VEVENT
END:VCALENDAR
