BEGIN:VCALENDAR
VERSION:2.0
PRODID:-//HasGeek//NONSGML Funnel//EN
DESCRIPTION:May 2023 Rustacean meetup
X-WR-CALDESC:May 2023 Rustacean meetup
NAME:May 2023 Rustacean meetup
X-WR-CALNAME:May 2023 Rustacean meetup
REFRESH-INTERVAL;VALUE=DURATION:PT12H
SUMMARY:May 2023 Rustacean meetup
TIMEZONE-ID:Asia/Kolkata
X-PUBLISHED-TTL:PT12H
X-WR-TIMEZONE:Asia/Kolkata
BEGIN:VEVENT
SUMMARY:Rust for Automotive: Empowering Safety\, Reliability\, and Perform
 ance
DTSTART:20230527T050000Z
DTEND:20230527T054500Z
DTSTAMP:20260419T202842Z
UID:session/XeAMm1MWebBq3VqtadURpb@hasgeek.com
SEQUENCE:2
CREATED:20230519T143206Z
DESCRIPTION:The creation of automotive software is only one of the many in
 dustries where Rust is becoming increasingly popular in recent years. This
  session focuses on the important facets of performance\, reliability\, an
 d safety as it explores Rust's potent capabilities and significance in the
  automobile industry.\n\nWe will examine the key characteristics and desig
 n choices that make Rust the perfect language for use in automotive applic
 ations during the talk. Rust addresses important issues with software stab
 ility in the context of the automotive industry by placing a heavy emphasi
 s on memory safety\, ownership\, and concurrency. We will talk about how t
 hese features help to reduce typical flaws like data races and null pointe
 r dereferences\, thus improving the overall security of automotive systems
 .\n\nIn addition to that we’ll discuss about Rust's integration possibil
 ities inside the current automotive software ecosystem in addition to its 
 technical advantages. The session will go over topics including code reuse
  and interoperability with various programming languages that are frequent
 ly used in the sector.\n\nCome along as we explore the potential of Rust f
 or Automotive\, a programming language that enhances performance\, reliabi
 lity\, and safety in the world of automotive software. Learn how Rust can 
 transform your development processes and advance the field of automotive i
 nnovation and how we are slowly adopting RUST inside Autonomous Vechicles 
 Team  from ThoughtWorks.\n
LAST-MODIFIED:20230519T143223Z
LOCATION:Thoughtworks\, ACR Mansion\,  Koramangala\, Bengaluru
ORGANIZER;CN="Rust Bangalore":MAILTO:no-reply@hasgeek.com
URL:https://hasgeek.com/rustbangalore/may-2023-rustacean-meetup/schedule/r
 ust-for-automotive-empowering-safety-reliability-and-performance-XeAMm1MWe
 bBq3VqtadURpb
BEGIN:VALARM
ACTION:display
DESCRIPTION:Rust for Automotive: Empowering Safety\, Reliability\, and Per
 formance in 5 minutes
TRIGGER:-PT5M
END:VALARM
END:VEVENT
BEGIN:VEVENT
SUMMARY:DB migrations using SeaORM and their application in PupBin : A pas
 tebin service
DTSTART:20230527T060000Z
DTEND:20230527T064500Z
DTSTAMP:20260419T202842Z
UID:session/HMsQEYR7aWzvEf5Xdtpmah@hasgeek.com
SEQUENCE:0
CREATED:20230519T143246Z
DESCRIPTION:SeaORM is a dynamic and async ORM built for rust with multiple
  compatibility layers. In this talk\, I'll be covering the basics of how S
 eaORM works in Rust\, along with a use case demo on a pastebin service wri
 tten from a systems perspective.\n\nThis talk aim to give everyone a worki
 ng knowledge of db migrations in Rust using SeaORM and some other cool par
 ts of SeaORM.\n\nLink to project  : https://github.com/NavinShrinivas/PupB
 in
LAST-MODIFIED:20230519T143246Z
LOCATION:Thoughtworks\, ACR Mansion\,  Koramangala\, Bengaluru
ORGANIZER;CN="Rust Bangalore":MAILTO:no-reply@hasgeek.com
URL:https://hasgeek.com/rustbangalore/may-2023-rustacean-meetup/schedule/d
 b-migrations-using-seaorm-and-their-application-in-pupbin-a-pastebin-servi
 ce-HMsQEYR7aWzvEf5Xdtpmah
BEGIN:VALARM
ACTION:display
DESCRIPTION:DB migrations using SeaORM and their application in PupBin : A
  pastebin service in 5 minutes
TRIGGER:-PT5M
END:VALARM
END:VEVENT
BEGIN:VEVENT
SUMMARY:Building a static site generator in Rust
DTSTART:20230527T065500Z
DTEND:20230527T072500Z
DTSTAMP:20260419T202842Z
UID:session/MnY1zupFCLdUCHPhdpzHsB@hasgeek.com
SEQUENCE:3
CREATED:20230519T143326Z
DESCRIPTION:In this talk I'll explain my process of building Saaru (https:
 //github.com/anirudhRowjee/saaru) and what i learnt along the way\, the de
 sign choices I made\, and what libraries i used.
LAST-MODIFIED:20230519T143621Z
LOCATION:Thoughtworks\, ACR Mansion\,  Koramangala\, Bengaluru
ORGANIZER;CN="Rust Bangalore":MAILTO:no-reply@hasgeek.com
URL:https://hasgeek.com/rustbangalore/may-2023-rustacean-meetup/schedule/b
 uilding-a-static-site-generator-in-rust-MnY1zupFCLdUCHPhdpzHsB
BEGIN:VALARM
ACTION:display
DESCRIPTION:Building a static site generator in Rust in 5 minutes
TRIGGER:-PT5M
END:VALARM
END:VEVENT
BEGIN:VEVENT
SUMMARY:Saving space locally using Judson
DTSTART:20230527T072500Z
DTEND:20230527T075500Z
DTSTAMP:20260419T202842Z
UID:session/UZ5pFVFNVcbKXQquGF8368@hasgeek.com
SEQUENCE:4
CREATED:20230519T143352Z
DESCRIPTION:## Far too many people have projects that they would have stor
 ed on GitHub taking up a large amount of space on their computer.\n\nThe a
 im of this talk is to showcase my current progress and what I am aiming to
  reach\, as well as discuss any new features that would be helpful.\n\n(ht
 tps://github.com/Mohamed-Ayaan358/Judson)\n\n
LAST-MODIFIED:20230810T072606Z
LOCATION:Thoughtworks\, ACR Mansion\,  Koramangala\, Bengaluru
ORGANIZER;CN="Rust Bangalore":MAILTO:no-reply@hasgeek.com
URL:https://hasgeek.com/rustbangalore/may-2023-rustacean-meetup/schedule/s
 aving-space-locally-using-judson-UZ5pFVFNVcbKXQquGF8368
BEGIN:VALARM
ACTION:display
DESCRIPTION:Saving space locally using Judson in 5 minutes
TRIGGER:-PT5M
END:VALARM
END:VEVENT
END:VCALENDAR
