BEGIN:VCALENDAR
VERSION:2.0
PRODID:-//HasGeek//NONSGML Funnel//EN
DESCRIPTION:June 2025 Rustacean meetup
X-WR-CALDESC:June 2025 Rustacean meetup
NAME:June 2025 Rustacean meetup
X-WR-CALNAME:June 2025 Rustacean meetup
REFRESH-INTERVAL;VALUE=DURATION:PT12H
SUMMARY:June 2025 Rustacean meetup
TIMEZONE-ID:Asia/Kolkata
X-PUBLISHED-TTL:PT12H
X-WR-TIMEZONE:Asia/Kolkata
BEGIN:VEVENT
SUMMARY:June 2025 Rustacean meetup
DTSTART:20250628T050000Z
DTEND:20250628T080000Z
DTSTAMP:20260421T183452Z
UID:session/UMfeEbVxRZbYRPZVaf5WXM@hasgeek.com
SEQUENCE:7
CREATED:20250521T072348Z
DESCRIPTION:This will be an in person meetup\, and we are happy to accept 
 submissions for talks. Anyone interested in Rust is welcomed to join. Atte
 ndees can discuss\, speak or ask about\n\n- Get help or clarification on a
 ny specific topic or question\n- Speak about a project or something you ar
 e working or looking to work on\n- Share any specific experience on using 
 Rust in any of your projects\n- Discuss any book/topic/library/blog in Rus
 t\n- Want to propose a reading group?\n- Anything Rust\n\nVenue:\n\nJuspay
  Technologies Private Limited\nStallion Business Center\,\n2nd floor\,\n44
 4\, 18th Main Rd\, 6th Block\, Koramangala\,\nBengaluru - 560095\nKarnatak
 a\, IN\nhttps://maps.app.goo.gl/1zdneFR658cFZfym9\n
LAST-MODIFIED:20250623T110824Z
LOCATION:Bengaluru - https://hasgeek.com/rustbangalore/june-2025-rustacean
 -meetup/
ORGANIZER;CN="Rust Bangalore":MAILTO:no-reply@hasgeek.com
URL:https://hasgeek.com/rustbangalore/june-2025-rustacean-meetup/
BEGIN:VALARM
ACTION:display
DESCRIPTION:June 2025 Rustacean meetup in 5 minutes
TRIGGER:-PT5M
END:VALARM
END:VEVENT
END:VCALENDAR
