BEGIN:VCALENDAR
VERSION:2.0
PRODID:-//HasGeek//NONSGML Funnel//EN
DESCRIPTION:June 2024 Rustacean meetup
X-WR-CALDESC:June 2024 Rustacean meetup
NAME:June 2024 Rustacean meetup
X-WR-CALNAME:June 2024 Rustacean meetup
REFRESH-INTERVAL;VALUE=DURATION:PT12H
SUMMARY:June 2024 Rustacean meetup
TIMEZONE-ID:Asia/Kolkata
X-PUBLISHED-TTL:PT12H
X-WR-TIMEZONE:Asia/Kolkata
BEGIN:VEVENT
SUMMARY:June 2024 Rustacean meetup
DTSTART:20240622T043000Z
DTEND:20240622T073000Z
DTSTAMP:20260420T130026Z
UID:session/QoYZZjDfJnmbZJJDhN2Mhw@hasgeek.com
SEQUENCE:5
CREATED:20240607T145549Z
DESCRIPTION:This will be an in person meetup\, and we are happy to accept 
 submissions for talks\, if any.\n\nAnyone interested in Rust is welcomed t
 o join. While we will have no specific agenda\, attendees can discuss\, sp
 eak or ask about\n\n   - Get help or clarification on any specific topic o
 r question\n   - Speak about a project or something you are working or loo
 king to work on\n   - Share any specific experience on using Rust in any o
 f your projects\n   - Discuss any book/topic/library/blog in Rust\n   - Wa
 nt to propose a reading group?\n   - Anything Rust
LAST-MODIFIED:20240705T084854Z
LOCATION:Bengaluru - https://hasgeek.com/rustbangalore/june-2024-rustacean
 -meetup/
ORGANIZER;CN="Rust Bangalore":MAILTO:no-reply@hasgeek.com
URL:https://hasgeek.com/rustbangalore/june-2024-rustacean-meetup/
BEGIN:VALARM
ACTION:display
DESCRIPTION:June 2024 Rustacean meetup in 5 minutes
TRIGGER:-PT5M
END:VALARM
END:VEVENT
END:VCALENDAR
