BEGIN:VCALENDAR
VERSION:2.0
PRODID:-//HasGeek//NONSGML Funnel//EN
DESCRIPTION:July 2025 Rustacean meetup
X-WR-CALDESC:July 2025 Rustacean meetup
NAME:July 2025 Rustacean meetup
X-WR-CALNAME:July 2025 Rustacean meetup
REFRESH-INTERVAL;VALUE=DURATION:PT12H
SUMMARY:July 2025 Rustacean meetup
TIMEZONE-ID:Asia/Kolkata
X-PUBLISHED-TTL:PT12H
X-WR-TIMEZONE:Asia/Kolkata
BEGIN:VEVENT
SUMMARY:July 2025 Rustacean meetup
DTSTART:20250726T050000Z
DTEND:20250726T080000Z
DTSTAMP:20260420T115022Z
UID:session/Pzpjc1p1v5uTNB8UqRLqwY@hasgeek.com
SEQUENCE:8
CREATED:20250705T052226Z
DESCRIPTION:This will be an in person meetup\, and we are happy to accept 
 submissions for talks. Anyone interested in Rust is welcomed to join. Atte
 ndees can discuss\, speak or ask about\n\n- Get help or clarification on a
 ny specific topic or question\n- Speak about a project or something you ar
 e working or looking to work on\n- Share any specific experience on using 
 Rust in any of your projects\n- Discuss any book/topic/library/blog in Rus
 t\n- Want to propose a reading group?\n- Anything Rust\n\n**Pre6 in HSR la
 yout is the venue for this event.**\nhttps://maps.app.goo.gl/b7b9T9RhPYhyZ
 Dwd6
LAST-MODIFIED:20250725T115310Z
LOCATION:Bengaluru - https://hasgeek.com/rustbangalore/july-2025-rustacean
 -meetup/
ORGANIZER;CN="Rust Bangalore":MAILTO:no-reply@hasgeek.com
URL:https://hasgeek.com/rustbangalore/july-2025-rustacean-meetup/
BEGIN:VALARM
ACTION:display
DESCRIPTION:July 2025 Rustacean meetup in 5 minutes
TRIGGER:-PT5M
END:VALARM
END:VEVENT
END:VCALENDAR
