BEGIN:VCALENDAR
VERSION:2.0
PRODID:-//HasGeek//NONSGML Funnel//EN
DESCRIPTION:January 2025 Rustacean meetup
X-WR-CALDESC:January 2025 Rustacean meetup
NAME:January 2025 Rustacean meetup
X-WR-CALNAME:January 2025 Rustacean meetup
REFRESH-INTERVAL;VALUE=DURATION:PT12H
SUMMARY:January 2025 Rustacean meetup
TIMEZONE-ID:Asia/Kolkata
X-PUBLISHED-TTL:PT12H
X-WR-TIMEZONE:Asia/Kolkata
BEGIN:VEVENT
SUMMARY:January 2025 Rustacean meetup
DTSTART:20250125T050000Z
DTEND:20250125T080000Z
DTSTAMP:20260424T094829Z
UID:session/4qLvCcLEm8ZfS4zUMDVD9X@hasgeek.com
SEQUENCE:10
CREATED:20250101T094258Z
DESCRIPTION:This will be an in person meetup.\n\nThe meetup venue is Dyte 
 (https://dyte.io/) @ HSR Layout.  Please note\, that Dyte is on third floo
 r\, above Third wave coffee shop.\n\nIf you find the entrance for getting 
 to the third floor closed\, please access the lift via basement parking. Y
 ou should see a gate/entrance just below Third wave coffee shop.
LAST-MODIFIED:20250121T123738Z
LOCATION:Bengaluru - https://hasgeek.com/rustbangalore/january-2025-rustac
 ean-meetup/
ORGANIZER;CN="Rust Bangalore":MAILTO:no-reply@hasgeek.com
URL:https://hasgeek.com/rustbangalore/january-2025-rustacean-meetup/
BEGIN:VALARM
ACTION:display
DESCRIPTION:January 2025 Rustacean meetup in 5 minutes
TRIGGER:-PT5M
END:VALARM
END:VEVENT
END:VCALENDAR
