BEGIN:VCALENDAR
VERSION:2.0
PRODID:-//HasGeek//NONSGML Funnel//EN
DESCRIPTION:December 2024 Rustacean meetup/workshop
X-WR-CALDESC:December 2024 Rustacean meetup/workshop
NAME:December 2024 Rustacean meetup/workshop
X-WR-CALNAME:December 2024 Rustacean meetup/workshop
REFRESH-INTERVAL;VALUE=DURATION:PT12H
SUMMARY:December 2024 Rustacean meetup/workshop
TIMEZONE-ID:Asia/Kolkata
X-PUBLISHED-TTL:PT12H
X-WR-TIMEZONE:Asia/Kolkata
BEGIN:VEVENT
SUMMARY:December 2024 Rustacean meetup/workshop
DTSTART:20241214T083000Z
DTEND:20241214T113000Z
DTSTAMP:20260424T095310Z
UID:session/9N95rDMw7A2GYxkcZ9gu6o@hasgeek.com
SEQUENCE:3
CREATED:20241202T074718Z
DESCRIPTION:In the world of modern software systems\, logging is where we 
 often start off on our observability journeys. But as services scale\, tra
 ditional logging often falls short in providing the nuanced\, contextual i
 nsights needed to debug and monitor them. This workshop is a deep dive int
 o the evolution of a Rust codebase from simple logging using the log crate
  to structured traces\, using the tracing ecosystem!\n\nThe workshop will 
 be conducted by [Devdutt Shenoi](https://github.com/de-sh).
LAST-MODIFIED:20241202T074718Z
LOCATION:Bengaluru - https://hasgeek.com/rustbangalore/december-2024-rusta
 cean-meetup-workshop/
ORGANIZER;CN="Rust Bangalore":MAILTO:no-reply@hasgeek.com
URL:https://hasgeek.com/rustbangalore/december-2024-rustacean-meetup-works
 hop/
BEGIN:VALARM
ACTION:display
DESCRIPTION:December 2024 Rustacean meetup/workshop in 5 minutes
TRIGGER:-PT5M
END:VALARM
END:VEVENT
END:VCALENDAR
