BEGIN:VCALENDAR
VERSION:2.0
PRODID:-//HasGeek//NONSGML Funnel//EN
DESCRIPTION:August 2025 Rustacean meetup
X-WR-CALDESC:August 2025 Rustacean meetup
NAME:August 2025 Rustacean meetup
X-WR-CALNAME:August 2025 Rustacean meetup
REFRESH-INTERVAL;VALUE=DURATION:PT12H
SUMMARY:August 2025 Rustacean meetup
TIMEZONE-ID:Asia/Kolkata
X-PUBLISHED-TTL:PT12H
X-WR-TIMEZONE:Asia/Kolkata
BEGIN:VEVENT
SUMMARY:August 2025 Rustacean meetup
DTSTART:20250823T050000Z
DTEND:20250823T080000Z
DTSTAMP:20260420T125926Z
UID:session/9jQ8UjqdboyrNKN2jBZbEB@hasgeek.com
SEQUENCE:10
CREATED:20250801T065610Z
DESCRIPTION:This will be an in person meetup\, and we are happy to accept 
 submissions for talks. Anyone interested in Rust is welcomed to join. Atte
 ndees can discuss\, speak or ask about\n\n- Get help or clarification on a
 ny specific topic or question\n- Speak about a project or something you ar
 e working or looking to work on\n- Share any specific experience on using 
 Rust in any of your projects\n- Discuss any book/topic/library/blog in Rus
 t\n- Want to propose a reading group?\n- Anything Rust\n\n**Venue is Juspa
 y office @ 4th Floor\, Ness Building\, Indiqube Grape Garden\, Koramangala
 .**\n\n**Venue:** https://maps.app.goo.gl/UrkD89sU8Q2Awh26A
LAST-MODIFIED:20250819T143847Z
LOCATION:Bengaluru - https://hasgeek.com/rustbangalore/august-2025-rustace
 an-meetup/
ORGANIZER;CN="Rust Bangalore":MAILTO:no-reply@hasgeek.com
URL:https://hasgeek.com/rustbangalore/august-2025-rustacean-meetup/
BEGIN:VALARM
ACTION:display
DESCRIPTION:August 2025 Rustacean meetup in 5 minutes
TRIGGER:-PT5M
END:VALARM
END:VEVENT
END:VCALENDAR
