BEGIN:VCALENDAR
VERSION:2.0
PRODID:-//HasGeek//NONSGML Funnel//EN
DESCRIPTION:In colloboration with FOSS United & Bengaluru Systems Group
X-WR-CALDESC:In colloboration with FOSS United & Bengaluru Systems Group
NAME:August 2024 Rustacean meetup
X-WR-CALNAME:August 2024 Rustacean meetup
REFRESH-INTERVAL;VALUE=DURATION:PT12H
SUMMARY:August 2024 Rustacean meetup
TIMEZONE-ID:Asia/Kolkata
X-PUBLISHED-TTL:PT12H
X-WR-TIMEZONE:Asia/Kolkata
BEGIN:VEVENT
SUMMARY:August 2024 Rustacean meetup
DTSTART:20240824T053000Z
DTEND:20240824T090000Z
DTSTAMP:20260419T152545Z
UID:session/9QqrMV9u7NqZbVVJbabU4p@hasgeek.com
SEQUENCE:9
CREATED:20240801T063051Z
DESCRIPTION:**NOTE: This meetup is cancelled.**\n\nThis meetup is being do
 ne in collaboration with [FOSS United](https://fossunited.org/) and [Benga
 luru Systems Meetup](https://hasgeek.com/bengalurusystemsmeetup).\n\nThe t
 alk can be on any topic as long as it aligns with FOSS Systems\, below are
  some quick topics that might help you to decide\, however\, your submissi
 on can be based on any topics outside the below categories as long as it i
 s FOSS Systems. If you aren't sure whether to submit it\, then submit it :
 ). \n\nIf you need help submitting a proposal\, email to bengaluru@fossuni
 ted.org.\n\nThe topics can be (though not limited to these) 👇\n\n- Unde
 rstanding the Linux Kernel\n- Concurrency in Rust\n- Showcasing/onboarding
  to FOSS project\n- Building some tools - e.g. command line tool\, package
  manager\n- Distributed Systems\n- WebAssembly\n- Memory Management\n- Sec
 urity\n- Databases and dataflow systems\n\nYou can check out the past talk
 s [here](https://www.youtube.com/@FOSSUnitedBLR/playlists). We highly appr
 eciate live coding with the audience as that would help in interactive and
  in-depth learning as well :)\,\n\nThe talk needs to be a maximum of 30 mi
 nutes.\n\n**Please note that the link for submissions is below\, and won't
  be accepted on this portal in submissions section**\nhttps://fossunited.o
 rg/events/blr-2024-aug/cfp\n\n**Event link**: https://fossunited.org/event
 s/blr-2024-aug\n\nPlease RSVP using the event link above\, once RSVPs are 
 open.
LAST-MODIFIED:20240823T054519Z
LOCATION:Bengaluru - https://hasgeek.com/rustbangalore/august-2024-rustace
 an-meetup/
ORGANIZER;CN="Rust Bangalore":MAILTO:no-reply@hasgeek.com
URL:https://hasgeek.com/rustbangalore/august-2024-rustacean-meetup/
BEGIN:VALARM
ACTION:display
DESCRIPTION:August 2024 Rustacean meetup in 5 minutes
TRIGGER:-PT5M
END:VALARM
END:VEVENT
END:VCALENDAR
