BEGIN:VCALENDAR
VERSION:2.0
PRODID:-//HasGeek//NONSGML Funnel//EN
DESCRIPTION:August 2023 Rustacean meetup
X-WR-CALDESC:August 2023 Rustacean meetup
NAME:August 2023 Rustacean meetup
X-WR-CALNAME:August 2023 Rustacean meetup
REFRESH-INTERVAL;VALUE=DURATION:PT12H
SUMMARY:August 2023 Rustacean meetup
TIMEZONE-ID:Asia/Kolkata
X-PUBLISHED-TTL:PT12H
X-WR-TIMEZONE:Asia/Kolkata
BEGIN:VEVENT
SUMMARY:August 2023 Rustacean meetup
DTSTART:20230805T053000Z
DTEND:20230805T073000Z
DTSTAMP:20260420T143038Z
UID:session/Br8tS3isxQo1byM2FYys7g@hasgeek.com
SEQUENCE:5
CREATED:20230717T074751Z
DESCRIPTION:\n\nThis will be an online meetup with no specific agenda\, ho
 wever we are happy to accept submissions for talks if any.\n\nAnyone inter
 ested in Rust is welcomed to join. While we will have no specific agenda\,
  attendees can discuss\, speak or ask about\n\n- Get help or clarification
  on any specific topic or question\n- Speak about project or something you
  are working or looking to work on\n- Share any specific experience on usi
 ng Rust in any of your projects\n- Discuss any book/topic/library/blog in 
 Rust\n- Want to propose a reading group?\n- Anything Rust\n\n
LAST-MODIFIED:20230831T090319Z
LOCATION:Online - https://hasgeek.com/rustbangalore/august-2023-rustacean-
 meetup/
ORGANIZER;CN="Rust Bangalore":MAILTO:no-reply@hasgeek.com
URL:https://hasgeek.com/rustbangalore/august-2023-rustacean-meetup/
BEGIN:VALARM
ACTION:display
DESCRIPTION:August 2023 Rustacean meetup in 5 minutes
TRIGGER:-PT5M
END:VALARM
END:VEVENT
END:VCALENDAR
