BEGIN:VCALENDAR
VERSION:2.0
PRODID:-//HasGeek//NONSGML Funnel//EN
DESCRIPTION:April 2025 Rustacean meetup
X-WR-CALDESC:April 2025 Rustacean meetup
NAME:April 2025 Rustacean meetup
X-WR-CALNAME:April 2025 Rustacean meetup
REFRESH-INTERVAL;VALUE=DURATION:PT12H
SUMMARY:April 2025 Rustacean meetup
TIMEZONE-ID:Asia/Kolkata
X-PUBLISHED-TTL:PT12H
X-WR-TIMEZONE:Asia/Kolkata
BEGIN:VEVENT
SUMMARY:April 2025 Rustacean meetup
DTSTART:20250405T050000Z
DTEND:20250405T080000Z
DTSTAMP:20260420T120712Z
UID:session/V2XT66dBiwdpzPfgsLT4Vb@hasgeek.com
SEQUENCE:8
CREATED:20250302T145719Z
DESCRIPTION:**NOTE: For this meetup\, preferable agenda will be to explore
  a topic/library in Rust\, in depth. Submissions with these in focus will 
 be given preference. Please do mention the expected runtime and any releva
 nt details when submitting the talk.**\n\nThis will be an in person meetup
 \, and we are happy to accept submissions for talks. Anyone interested in 
 Rust is welcomed to join. Attendees can discuss\, speak or ask about\n\n- 
 Get help or clarification on any specific topic or question\n- Speak about
  a project or something you are working or looking to work on\n- Share any
  specific experience on using Rust in any of your projects\n- Discuss any 
 book/topic/library/blog in Rust\n- Want to propose a reading group?\n- Any
 thing Rust\n\n**Venue:** Juspay https://maps.app.goo.gl/swD6qzXqSdTvax2u9
LAST-MODIFIED:20250505T124217Z
LOCATION:Bengaluru - https://hasgeek.com/rustbangalore/april-2025-rustacea
 n-meetup/
ORGANIZER;CN="Rust Bangalore":MAILTO:no-reply@hasgeek.com
URL:https://hasgeek.com/rustbangalore/april-2025-rustacean-meetup/
BEGIN:VALARM
ACTION:display
DESCRIPTION:April 2025 Rustacean meetup in 5 minutes
TRIGGER:-PT5M
END:VALARM
END:VEVENT
END:VCALENDAR
