BEGIN:VCALENDAR
VERSION:2.0
PRODID:-//HasGeek//NONSGML Funnel//EN
DESCRIPTION:April 2024 Rustacean Meetup
X-WR-CALDESC:April 2024 Rustacean Meetup
NAME:April 2024 Rustacean Meetup
X-WR-CALNAME:April 2024 Rustacean Meetup
REFRESH-INTERVAL;VALUE=DURATION:PT12H
SUMMARY:April 2024 Rustacean Meetup
TIMEZONE-ID:Asia/Kolkata
X-PUBLISHED-TTL:PT12H
X-WR-TIMEZONE:Asia/Kolkata
BEGIN:VEVENT
SUMMARY:Introduction/Networking
DTSTART:20240413T043000Z
DTEND:20240413T044500Z
DTSTAMP:20260420T113411Z
UID:session/E1SSbmXfF7SrUYs1MxME6j@hasgeek.com
SEQUENCE:0
CREATED:20240412T082231Z
LAST-MODIFIED:20240412T082231Z
LOCATION:Bangalore
ORGANIZER;CN="Rust Bangalore":MAILTO:no-reply@hasgeek.com
BEGIN:VALARM
ACTION:display
DESCRIPTION:Introduction/Networking in 5 minutes
TRIGGER:-PT5M
END:VALARM
END:VEVENT
BEGIN:VEVENT
SUMMARY:Using ODBC2Parquet for Cost Effective Data Warehousing
DTSTART:20240413T044500Z
DTEND:20240413T051500Z
DTSTAMP:20260420T113411Z
UID:session/UeweAFvGPDpqLextGbhYrS@hasgeek.com
SEQUENCE:5
CREATED:20240409T143821Z
DESCRIPTION:In this lightning talk we're presenting the usage of ODBC2Parq
 uet\nhttps://github.com/pacman82/odbc2parquet\nin our data warehousing jou
 rney. \n\nAudience would get the following insights from this talk :- \n\n
 - Challenges Moving huge (rather Big) data from OLTP to Warehouse \n- What
  are the options & how its handled\n- A short intro to Data Lake & Parquet
  columnar file format \n- How to use ODBC2Parquet  to move data \n- Pros &
  Cons \n\nPresenters\n- @Amit Abhishek \n- @Prasanna Kumar \n\n
LAST-MODIFIED:20240412T082157Z
LOCATION:Bangalore
ORGANIZER;CN="Rust Bangalore":MAILTO:no-reply@hasgeek.com
URL:https://hasgeek.com/rustbangalore/april-2024-rustacean-meetup/schedule
 /using-odbc2parquet-for-cost-effective-data-warehousing-UeweAFvGPDpqLextGb
 hYrS
BEGIN:VALARM
ACTION:display
DESCRIPTION:Using ODBC2Parquet for Cost Effective Data Warehousing in 5 mi
 nutes
TRIGGER:-PT5M
END:VALARM
END:VEVENT
BEGIN:VEVENT
SUMMARY:JIT: from first principles
DTSTART:20240413T053000Z
DTEND:20240413T061500Z
DTSTAMP:20260420T113411Z
UID:session/He1eufJMYiWjoirxzFpZyB@hasgeek.com
SEQUENCE:2
CREATED:20240409T143803Z
DESCRIPTION:JITting is a hot topic among compiler devs\, it is everywhere 
 in JS\, wasm\, python\, etc. Everything has a JIT at this point\, but what
  does it even mean?\n\nIn this talk we will understand what JITs are\, imp
 lement a simple one from ground up :)
LAST-MODIFIED:20240412T082033Z
LOCATION:Bangalore
ORGANIZER;CN="Rust Bangalore":MAILTO:no-reply@hasgeek.com
URL:https://hasgeek.com/rustbangalore/april-2024-rustacean-meetup/schedule
 /jit-from-first-principles-He1eufJMYiWjoirxzFpZyB
BEGIN:VALARM
ACTION:display
DESCRIPTION:JIT: from first principles in 5 minutes
TRIGGER:-PT5M
END:VALARM
END:VEVENT
BEGIN:VEVENT
SUMMARY:Implementing HLS support with Rust & GStreamer
DTSTART:20240413T063000Z
DTEND:20240413T071500Z
DTSTAMP:20260420T113411Z
UID:session/8LW5dBquNCEUcM8AZFFi7W@hasgeek.com
SEQUENCE:0
CREATED:20240409T143839Z
DESCRIPTION:HTTP Live Streaming (also known as HLS) is an HTTP-based adapt
 ive bitrate streaming communications protocol. It is a popular format used
  for streaming\, allowing content to be delivered from HTTP servers via wi
 dely available HTTP based content delivery networks (CDNs) like AWS\, Akam
 ai and others.\n\nThe talk will give a brief introduction to HLS and HLS t
 erminologies. We will then cover an introduction to HLS implementation I h
 ave been working on using GStreamer and written in Rust.\n\nHLS RFC: https
 ://datatracker.ietf.org/doc/html/rfc8216
LAST-MODIFIED:20240409T143839Z
LOCATION:Bangalore
ORGANIZER;CN="Rust Bangalore":MAILTO:no-reply@hasgeek.com
URL:https://hasgeek.com/rustbangalore/april-2024-rustacean-meetup/schedule
 /implementing-hls-support-with-rust-gstreamer-8LW5dBquNCEUcM8AZFFi7W
BEGIN:VALARM
ACTION:display
DESCRIPTION:Implementing HLS support with Rust & GStreamer in 5 minutes
TRIGGER:-PT5M
END:VALARM
END:VEVENT
BEGIN:VEVENT
SUMMARY:BOF/Discussion
DTSTART:20240413T071500Z
DTEND:20240413T073000Z
DTSTAMP:20260420T113411Z
UID:session/4c23U37CKRwEHCTNBwpeor@hasgeek.com
SEQUENCE:1
CREATED:20240409T143853Z
LAST-MODIFIED:20240409T143856Z
LOCATION:Bangalore
ORGANIZER;CN="Rust Bangalore":MAILTO:no-reply@hasgeek.com
BEGIN:VALARM
ACTION:display
DESCRIPTION:BOF/Discussion in 5 minutes
TRIGGER:-PT5M
END:VALARM
END:VEVENT
END:VCALENDAR
