BEGIN:VCALENDAR
VERSION:2.0
PRODID:-//HasGeek//NONSGML Funnel//EN
DESCRIPTION:April  2023 Rustacean meetup
X-WR-CALDESC:April  2023 Rustacean meetup
NAME:April  2023 Rustacean meetup
X-WR-CALNAME:April  2023 Rustacean meetup
REFRESH-INTERVAL;VALUE=DURATION:PT12H
SUMMARY:April  2023 Rustacean meetup
TIMEZONE-ID:Asia/Kolkata
X-PUBLISHED-TTL:PT12H
X-WR-TIMEZONE:Asia/Kolkata
BEGIN:VEVENT
SUMMARY:Performance in Rust & Beyond
DTSTART:20230415T053000Z
DTEND:20230415T063000Z
DTSTAMP:20260420T132449Z
UID:session/FjbXqDxDfyX2PNyFqfTxo8@hasgeek.com
SEQUENCE:6
CREATED:20230717T074026Z
DESCRIPTION:### description\nWe look into how to figure out performance an
 d understand what simple tricks we can keep handy to improve performance o
 f Rust code.\n\nWe will take a look at code generation\, rust code hacks a
 nd more\, but in general this is a beginners introduction to performance p
 ractices/concepts in Rust and in System's Programming languages in general
 .\n\n---\n### prerequisite\nThis is supposed to be a simple dicussion of p
 erformance\, will not require much knowledge of Rust\, but would require s
 ome understanding of programming and code performance/benchmarking.\n\n###
  talk slides: (TBA)\n### speaker\nSwarnim Arun\nDeepSource\n\n\n
LAST-MODIFIED:20230717T074110Z
LOCATION:Online
ORGANIZER;CN="Rust Bangalore":MAILTO:no-reply@hasgeek.com
URL:https://hasgeek.com/rustbangalore/april-2023-rustacean-meetup/schedule
 /performance-in-rust-beyond-FjbXqDxDfyX2PNyFqfTxo8
BEGIN:VALARM
ACTION:display
DESCRIPTION:Performance in Rust & Beyond in 5 minutes
TRIGGER:-PT5M
END:VALARM
END:VEVENT
END:VCALENDAR
