BEGIN:VCALENDAR
VERSION:2.0
PRODID:-//HasGeek//NONSGML Funnel//EN
DESCRIPTION:Examining approaches for visibility into the network about use
 rs and traffic.
X-WR-CALDESC:Examining approaches for visibility into the network about us
 ers and traffic.
NAME:Zero Trust Architecture
X-WR-CALNAME:Zero Trust Architecture
REFRESH-INTERVAL;VALUE=DURATION:PT12H
SUMMARY:Zero Trust Architecture
TIMEZONE-ID:Asia/Kolkata
X-PUBLISHED-TTL:PT12H
X-WR-TIMEZONE:Asia/Kolkata
BEGIN:VEVENT
SUMMARY:An overview of Zero Trust Architecture
DTSTART:20230221T103000Z
DTEND:20230221T113000Z
DTSTAMP:20260421T132223Z
UID:session/KdZ94ggZJFMQ3JacYZiqLm@hasgeek.com
SEQUENCE:5
CREATED:20230203T050233Z
LAST-MODIFIED:20230225T112843Z
LOCATION:Bangalore
ORGANIZER;CN=Rootconf:MAILTO:no-reply@hasgeek.com
BEGIN:VALARM
ACTION:display
DESCRIPTION:An overview of Zero Trust Architecture in 5 minutes
TRIGGER:-PT5M
END:VALARM
END:VEVENT
BEGIN:VEVENT
SUMMARY:Zero Trust Architecture conference
DTSTART:20230505T080000Z
DTEND:20230505T120000Z
DTSTAMP:20260421T132223Z
UID:session/7nvjQLiLwFw3CGg1NPj73A@hasgeek.com
SEQUENCE:5
CREATED:20230119T064644Z
LAST-MODIFIED:20230119T064701Z
LOCATION:Bangalore
ORGANIZER;CN=Rootconf:MAILTO:no-reply@hasgeek.com
BEGIN:VALARM
ACTION:display
DESCRIPTION:Zero Trust Architecture conference in 5 minutes
TRIGGER:-PT5M
END:VALARM
END:VEVENT
END:VCALENDAR
