BEGIN:VCALENDAR
VERSION:2.0
PRODID:-//HasGeek//NONSGML Funnel//EN
DESCRIPTION:Community meetups
X-WR-CALDESC:Community meetups
NAME:Telecom regulation in India
X-WR-CALNAME:Telecom regulation in India
REFRESH-INTERVAL;VALUE=DURATION:PT12H
SUMMARY:Telecom regulation in India
TIMEZONE-ID:Asia/Kolkata
X-PUBLISHED-TTL:PT12H
X-WR-TIMEZONE:Asia/Kolkata
BEGIN:VEVENT
SUMMARY:Twitter Spaces: Techno-legal consequences of the draft Indian Tele
 communication Bill
DTSTART:20221118T133000Z
DTEND:20221118T150000Z
DTSTAMP:20260421T171137Z
UID:session/9aued8o8ySw6aymnHJhp5o@hasgeek.com
SEQUENCE:4
CREATED:20221119T091627Z
DESCRIPTION:https://twitter.com/i/spaces/1ynJOaeDNgWKR?s=20
LAST-MODIFIED:20230108T103046Z
LOCATION:Bangalore\, Hyderabad\, Delhi
ORGANIZER;CN=Rootconf:MAILTO:no-reply@hasgeek.com
BEGIN:VALARM
ACTION:display
DESCRIPTION:Twitter Spaces: Techno-legal consequences of the draft Indian 
 Telecommunication Bill in 5 minutes
TRIGGER:-PT5M
END:VALARM
END:VEVENT
BEGIN:VEVENT
SUMMARY:Telecom Bill - protocols and regulation
DTSTART:20221125T103000Z
DTEND:20221125T113000Z
DTSTAMP:20260421T171137Z
UID:session/WABsoywUofnU6i3qE5eLVA@hasgeek.com
SEQUENCE:5
CREATED:20221122T074514Z
DESCRIPTION:In this talk\, Vivek Jathanna will cover the following topics:
 \n\n1. History of Telecom regulation in India.\n2. An overview of the Draf
 t Indian Telecommunications Bill\, 2022. Issues to think through in the cu
 rrent Bill\, including inclusion of OTTs in the regulatory ambit. \n3. Tec
 hnical aspects such as signalling protocols\, multimedia subsystems\, 4G a
 nd 5G Voice\, and Lawful Interception Management System (LIMS).\n\nBy draw
 ing on the technical issues such as Telecom protocols\, Vivek will help pa
 rticipants understand and appreciate the challenges that the current telec
 om regulation poses including speed\, security\, fraud and unsolicited com
 munication. Vivek will also throw light on how innovation takes place in T
 elecom\, and the impact of the past and current regulation on future innov
 ation in the Telecom sector in India.   \n\n**Speaker bio:** Vivek Jathann
 a is VP at Exotel (CPaaS/CCaaS player) and has diversified experience in t
 elecom including Networking\, Planning\, Product\, Solution and Tech sales
 . Vivek has been associated with telecom revolution in India right from ea
 rly days\, and has witnessed the changing landscape\, innovation and user 
 consumption from 2G to 5G\, OTT\, SaaS and others.\n\nWith extensive under
 standing of Indian regulatory framework (i.e.\, OSP\, ISP\, Audiotex\, UL\
 , ULVNO)\, enormous interaction/solutioning with diverse clients from ITES
 /BFSI\, etc\, and on different aspects like network\, compliance\, busines
 s models\, Vivek has helped appreciate multi stakeholder view points\, fur
 ther helping him to be reliable guide for many organizations.
LAST-MODIFIED:20230108T103046Z
LOCATION:Meeting room - Obvious\nBengaluru\nIN
ORGANIZER;CN=Rootconf:MAILTO:no-reply@hasgeek.com
URL:https://hasgeek.com/rootconf/telecom-regulation-in-india/schedule/tele
 com-bill-protocols-and-regulation-WABsoywUofnU6i3qE5eLVA
BEGIN:VALARM
ACTION:display
DESCRIPTION:Telecom Bill - protocols and regulation in Meeting room in 5 m
 inutes
TRIGGER:-PT5M
END:VALARM
END:VEVENT
BEGIN:VEVENT
SUMMARY:VoIP in India and telecom billing
DTSTART:20221202T103000Z
DTEND:20221202T113000Z
DTSTAMP:20260421T171137Z
UID:session/32EH4kgjm8BNu3rpL2C4wj@hasgeek.com
SEQUENCE:7
CREATED:20221119T092833Z
LAST-MODIFIED:20240123T121751Z
LOCATION:Meeting room - Obvious\nBengaluru\nIN
ORGANIZER;CN=Rootconf:MAILTO:no-reply@hasgeek.com
BEGIN:VALARM
ACTION:display
DESCRIPTION:VoIP in India and telecom billing in Meeting room in 5 minutes
TRIGGER:-PT5M
END:VALARM
END:VEVENT
BEGIN:VEVENT
SUMMARY:Check-in and registrations
DTSTART:20230112T103000Z
DTEND:20230112T104000Z
DTSTAMP:20260421T171137Z
UID:session/5kUusPfSZ6yyYiRMVqp9r1@hasgeek.com
SEQUENCE:1
CREATED:20230111T095332Z
LAST-MODIFIED:20230111T095335Z
LOCATION:SIT-001 - Khosla School of Information Technology building - IIT 
 Delhi\nNew Delhi\nIN
ORGANIZER;CN=Rootconf:MAILTO:no-reply@hasgeek.com
BEGIN:VALARM
ACTION:display
DESCRIPTION:Check-in and registrations in SIT-001 - Khosla School of Infor
 mation Technology building in 5 minutes
TRIGGER:-PT5M
END:VALARM
END:VEVENT
BEGIN:VEVENT
SUMMARY:Introductions
DTSTART:20230112T104000Z
DTEND:20230112T104500Z
DTSTAMP:20260421T171137Z
UID:session/WQ2gMe4uNZLR9qitKZSEm1@hasgeek.com
SEQUENCE:0
CREATED:20230111T095357Z
LAST-MODIFIED:20230111T095357Z
LOCATION:SIT-001 - Khosla School of Information Technology building - IIT 
 Delhi\nNew Delhi\nIN
ORGANIZER;CN=Rootconf:MAILTO:no-reply@hasgeek.com
BEGIN:VALARM
ACTION:display
DESCRIPTION:Introductions in SIT-001 - Khosla School of Information Techno
 logy building in 5 minutes
TRIGGER:-PT5M
END:VALARM
END:VEVENT
BEGIN:VEVENT
SUMMARY:Introduction to the speaker and the talk
DTSTART:20230112T104500Z
DTEND:20230112T105000Z
DTSTAMP:20260421T171137Z
UID:session/ACnpz1LQc3NqCbM4thcgzM@hasgeek.com
SEQUENCE:0
CREATED:20230111T095421Z
LAST-MODIFIED:20230111T095421Z
LOCATION:SIT-001 - Khosla School of Information Technology building - IIT 
 Delhi\nNew Delhi\nIN
ORGANIZER;CN=Rootconf:MAILTO:no-reply@hasgeek.com
BEGIN:VALARM
ACTION:display
DESCRIPTION:Introduction to the speaker and the talk in SIT-001 - Khosla S
 chool of Information Technology building in 5 minutes
TRIGGER:-PT5M
END:VALARM
END:VEVENT
BEGIN:VEVENT
SUMMARY:Rooting and uprooting spam in Telecom - e-KYC and emerging trends 
 with verification\, identification and fraud prevention.
DTSTART:20230112T105000Z
DTEND:20230112T113000Z
DTSTAMP:20260421T171137Z
UID:session/NRcSB6b6MduPXps4WWDpc7@hasgeek.com
SEQUENCE:11
CREATED:20230104T035914Z
DESCRIPTION:**View the slides for this talk [here]**(https://docs.google.c
 om/presentation/d/1DpWnC6RXxBqb9lnj2JESqLHJ1OmP3KxL5X1YI8u3SsM/edit?usp=sh
 aring). 
LAST-MODIFIED:20230118T083828Z
LOCATION:SIT-001 - Khosla School of Information Technology building - IIT 
 Delhi\nNew Delhi\nIN
ORGANIZER;CN=Rootconf:MAILTO:no-reply@hasgeek.com
BEGIN:VALARM
ACTION:display
DESCRIPTION:Rooting and uprooting spam in Telecom - e-KYC and emerging tre
 nds with verification\, identification and fraud prevention. in SIT-001 - 
 Khosla School of Information Technology building in 5 minutes
TRIGGER:-PT5M
END:VALARM
END:VEVENT
BEGIN:VEVENT
SUMMARY:Q&A
DTSTART:20230112T113000Z
DTEND:20230112T114500Z
DTSTAMP:20260421T171137Z
UID:session/UffwHy9KUNKZwjYAjfvZAi@hasgeek.com
SEQUENCE:1
CREATED:20230111T095512Z
LAST-MODIFIED:20230111T095515Z
LOCATION:SIT-001 - Khosla School of Information Technology building - IIT 
 Delhi\nNew Delhi\nIN
ORGANIZER;CN=Rootconf:MAILTO:no-reply@hasgeek.com
BEGIN:VALARM
ACTION:display
DESCRIPTION:Q&A in SIT-001 - Khosla School of Information Technology build
 ing in 5 minutes
TRIGGER:-PT5M
END:VALARM
END:VEVENT
BEGIN:VEVENT
SUMMARY:Tea/coffee
DTSTART:20230112T114500Z
DTEND:20230112T115000Z
DTSTAMP:20260421T171137Z
UID:session/ScB5aQ5Lk93pFsnBC52FtY@hasgeek.com
SEQUENCE:0
CREATED:20230111T095522Z
LAST-MODIFIED:20230111T095522Z
LOCATION:SIT-001 - Khosla School of Information Technology building - IIT 
 Delhi\nNew Delhi\nIN
ORGANIZER;CN=Rootconf:MAILTO:no-reply@hasgeek.com
BEGIN:VALARM
ACTION:display
DESCRIPTION:Tea/coffee in SIT-001 - Khosla School of Information Technolog
 y building in 5 minutes
TRIGGER:-PT5M
END:VALARM
END:VEVENT
END:VCALENDAR
