BEGIN:VCALENDAR
VERSION:2.0
PRODID:-//HasGeek//NONSGML Funnel//EN
DESCRIPTION:SRE talk series
X-WR-CALDESC:SRE talk series
NAME:Unlocking SRE success: a two-decade journey
X-WR-CALNAME:Unlocking SRE success: a two-decade journey
REFRESH-INTERVAL;VALUE=DURATION:PT12H
SUMMARY:Unlocking SRE success: a two-decade journey
TIMEZONE-ID:Asia/Kolkata
X-PUBLISHED-TTL:PT12H
X-WR-TIMEZONE:Asia/Kolkata
BEGIN:VEVENT
SUMMARY:Unlocking SRE success: a two-decade journey
DTSTART:20231207T120000Z
DTEND:20231207T133000Z
DTSTAMP:20260421T210506Z
UID:session/7Ehz4nd85XPFytbFouT66e@hasgeek.com
SEQUENCE:14
CREATED:20231028T033345Z
DESCRIPTION:[Manoj Sebastian Kulatharayil\, a seasoned Reliability and Pro
 ductivity Engineering leader](https://www.linkedin.com/in/manojseb/)\, wil
 l be in conversation with [Safeer CM\, Senior Staff SRE at Flipkart](https
 ://www.linkedin.com/in/safeer/)\, and [Sarika Atri\, Software Architect](h
 ttps://www.linkedin.com/in/sarikaatri/).\n\nThe chat will cover the evolut
 ion of SRE function over two decades\, and Manoj's experience with the ado
 ption and growth of the SRE function across major internet and technology 
 companies including Yahoo\, Amazon\, Intuit\, Atlassian\, and Flipkart.\n\
 nOver 45 mins\, Manoj\, Safeer and Sarika will discuss the following aspec
 ts of SRE function in tech companies:\n\n1. Evangelism and adoption of the
  SRE mindset\, skillets and roles in the tech industry over a decade after
  Google’s SRE journey started in 2003.\n2. Observability - strategies an
 d technologies.\n3. Key principles driving incident management and postmor
 tems.\n4. Hiring for SRE roles\; what distinguishes an SRE from any other 
 software engineer?\n5. Future of SRE - is the domain going to evolve\, or 
 will it eventually merge with the other software engineering disciplines?\
 n\nThis is an in-person event. Venue will be announced shortly. \n\n## Abo
 ut the curator\nThis conversation is curated by Safeer CM and Sarika Atri\
 , editors of the [SRE Conference](http://has.gy/voR0).\n\n## Membership su
 pport\nThis event is part of the SRE series of monthly fireside chats. The
 se events have been made possible by Rootconf members.  [You can support s
 uch activities by picking up a membership here](http://has.gy/voR0).\n\n##
  Contact information \nJoin the Rootconf Telegram group at <https://t.me/r
 ootconf> or follow [@rootconf on Twitter](https://twitter.com/rootconf).\n
 For inquiries\, contact Rootconf at +91-7676332020. 
LAST-MODIFIED:20231108T060620Z
LOCATION:Bangalore - https://hasgeek.com/rootconf/sre-fireside-chat-with-m
 anoj-sebastian/
ORGANIZER;CN=Rootconf:MAILTO:no-reply@hasgeek.com
URL:https://hasgeek.com/rootconf/sre-fireside-chat-with-manoj-sebastian/
BEGIN:VALARM
ACTION:display
DESCRIPTION:Unlocking SRE success: a two-decade journey in 5 minutes
TRIGGER:-PT5M
END:VALARM
END:VEVENT
END:VCALENDAR
