BEGIN:VCALENDAR
VERSION:2.0
PRODID:-//HasGeek//NONSGML Funnel//EN
DESCRIPTION:Expert Talks on all things DevOps & SRE
X-WR-CALDESC:Expert Talks on all things DevOps & SRE
NAME:Continuous Reliability - CFP
X-WR-CALNAME:Continuous Reliability - CFP
REFRESH-INTERVAL;VALUE=DURATION:PT12H
SUMMARY:Continuous Reliability - CFP
TIMEZONE-ID:Asia/Kolkata
X-PUBLISHED-TTL:PT12H
X-WR-TIMEZONE:Asia/Kolkata
BEGIN:VEVENT
SUMMARY:Continuous Reliability - CFP
DTSTART:20231118T063000Z
DTEND:20240131T182900Z
DTSTAMP:20260419T235615Z
UID:session/DPotidUqgD1FahCHifKc6R@hasgeek.com
SEQUENCE:24
CREATED:20231120T111410Z
DESCRIPTION:## What is Continuous Reliability about?\nAs the role and disc
 ipline of Site Reliability Engineering has developed along the years\, com
 panies have also started adapting the new ideas\, tech and processes in or
 der to stay relevant and gain market leadership. As such\, a lot of folks 
 might have an incorrect or an incomplete idea about the way SRE is done or
  to how manage SRE teams. There exists a need to have regular conversation
 s about things like:\n\n1. Platform Engineering\n2. Finops\n3. Blameless p
 ostmortems\n4. Chaos Engineering\n5. SRE Anti-Patterns\n6. Building and Ma
 naging SRE teams\n7. SRE Leadership\n\nThe idea is to get a bunch of SREs 
 to meetup\, deliver and listen to monthly talks on Site Reliability Engine
 ering - war room stories\, organizational set-up and culture around having
  processes and runbooks. Talking about learning opportunities and takeways
  is THE way to nurture the SRE culture - understand why SREs do the things
  they do\, instead of doing it just for the sake of completing checkboxes 
 before scaling\, be it infrastructure or team.\n\nSubmit talks\, panels\, 
 workshops and demos - *become part of the conversation.*\n\n## Key takeawa
 ys for participants\n1. Improved understanding of organizational needs and
  requirements.\n2. Improved public speaking skills.\n3. Networking opportu
 nities.\n4. Knowledge sharing and community building.\n\n## Who should par
 ticipate\n* Members of SRE\, DevOps or platform teams.\n* A software devel
 oper or manager who is responsible for services running on any cloud platf
 orm or on-prem data center.\n* Technology leader of an engineering team th
 at manages critical systems which should have minimal to zero downtime.\n\
 n## Speaking\nIf you are interested in speaking at the conference\, submit
  your talk idea [here](https://hasgeek.com/rootconf/sre-cfp/sub). The edit
 ors - Sarika Atri\, Safeer CM and Saurabh Hirani - will review your talk d
 escription and give feedback.\n\nSpeakers will also receive feedback and a
 ssistance during rehearsals from past speakers such as [Sitaram Shelke](ht
 tps://www.linkedin.com/in/sitaramshelke/).\n\nGuidelines for speaking are 
 published [here](https://hasgeek.com/rootconf/sre-cfp/sub).\n\n## About th
 e editors\nThis conference themes were set up by Sarika Atri and Safeer CM
 . Together with Saurabh Hirani\, the three editors have:\n1. Reviewed the 
 talks.\n2. Set up the editorial workflow.\n3. Finalized talk selections.\n
 4. Curated the schedule.\n\n[Sarika Atri](https://www.linkedin.com/in/sari
 kaatri/) is Software Architect with over twenty years experience in the in
 dustry. Sarika was reviewer for [Rootconf Cloud Costs Optimization confere
 nce](http://has.gy/iwyP) held in July 2023.\n[Safeer CM](https://www.linke
 din.com/in/safeer/) is Senior Staff SRE at Flipkart. He is author of Archi
 tecting Cloud-Native Serverless Solutions published by Packt.\n[Saurabh Hi
 rani](https://www.linkedin.com/in/shirani/) is former editor of Rootconf\,
  and a passionate member of the community. Saurabh is SRE at Last9.io. He 
 has a keen interest in mentoring speakers.\n\n## This is a Free Event\nRoo
 tconf SRE is a community-backed event/meetup. It will be held in-person. *
 This is a free event - attendance is open to all.* However\, you may choos
 e to support these monthly meetups with a membership. If you have question
 s about participation\, post a comment [here](https://hasgeek.com/rootconf
 /sre-cfp/comments).\n\n## Sponsorship\nSponsorship slots are open for:\n1.
  Tool and solutions providers.\n2. Companies interested in tech branding f
 or hiring.\n\n**Email sponsorship queries to <sales@hasgeek.com>**\n\n### 
 Contact information\nJoin the Rootconf Telegram group at <https://t.me/roo
 tconf> or follow [@rootconf on Twitter](https://twitter.com/rootconf).\nFo
 r inquiries\, contact Rootconf at +91-7676332020.
LAST-MODIFIED:20250125T010001Z
LOCATION:Online - https://hasgeek.com/rootconf/sre-cfp/
ORGANIZER;CN=Rootconf:MAILTO:no-reply@hasgeek.com
URL:https://hasgeek.com/rootconf/sre-cfp/
BEGIN:VALARM
ACTION:display
DESCRIPTION:Continuous Reliability - CFP in 5 minutes
TRIGGER:-PT5M
END:VALARM
END:VEVENT
END:VCALENDAR
