BEGIN:VCALENDAR
VERSION:2.0
PRODID:-//HasGeek//NONSGML Funnel//EN
DESCRIPTION:New challenges and opportunities in running large-scale distri
 buted systems
X-WR-CALDESC:New challenges and opportunities in running large-scale distr
 ibuted systems
NAME:Managing SRE Teams Remotely
X-WR-CALNAME:Managing SRE Teams Remotely
REFRESH-INTERVAL;VALUE=DURATION:PT12H
SUMMARY:Managing SRE Teams Remotely
TIMEZONE-ID:Asia/Kolkata
X-PUBLISHED-TTL:PT12H
X-WR-TIMEZONE:Asia/Kolkata
BEGIN:VEVENT
SUMMARY:Introduction to the session\; setting house rules
DTSTART:20200501T053000Z
DTEND:20200501T053500Z
DTSTAMP:20260421T032735Z
UID:session/VdMwncrGdko1jVsPLpNgTR@hasgeek.com
SEQUENCE:0
CREATED:20200420T072724Z
DESCRIPTION:\n
GEO:12.961443;77.64435000000003
LAST-MODIFIED:20200420T072738Z
LOCATION:Online - Online\nIN
ORGANIZER;CN=Rootconf:MAILTO:no-reply@hasgeek.com
BEGIN:VALARM
ACTION:display
DESCRIPTION:Introduction to the session\; setting house rules in Online in
  5 minutes
TRIGGER:-PT5M
END:VALARM
END:VEVENT
BEGIN:VEVENT
SUMMARY:Presentation: on remote teams and managing distributed systems
DTSTART:20200501T053500Z
DTEND:20200501T055500Z
DTSTAMP:20260421T032735Z
UID:session/6DUsZJN6dbhbVEzAYsuFED@hasgeek.com
SEQUENCE:0
CREATED:20200420T072832Z
DESCRIPTION:\n
GEO:12.961443;77.64435000000003
LAST-MODIFIED:20200420T072944Z
LOCATION:Online - Online\nIN
ORGANIZER;CN=Rootconf:MAILTO:no-reply@hasgeek.com
BEGIN:VALARM
ACTION:display
DESCRIPTION:Presentation: on remote teams and managing distributed systems
  in Online in 5 minutes
TRIGGER:-PT5M
END:VALARM
END:VEVENT
BEGIN:VEVENT
SUMMARY:Birds of Feather session: responses and further discussion
DTSTART:20200501T055500Z
DTEND:20200501T063500Z
DTSTAMP:20260421T032735Z
UID:session/6HhVK4WaRNZeLAqcSq6LqQ@hasgeek.com
SEQUENCE:0
CREATED:20200420T072903Z
DESCRIPTION:\n
GEO:12.961443;77.64435000000003
LAST-MODIFIED:20200420T072912Z
LOCATION:Online - Online\nIN
ORGANIZER;CN=Rootconf:MAILTO:no-reply@hasgeek.com
BEGIN:VALARM
ACTION:display
DESCRIPTION:Birds of Feather session: responses and further discussion in 
 Online in 5 minutes
TRIGGER:-PT5M
END:VALARM
END:VEVENT
BEGIN:VEVENT
SUMMARY:Summary and closing
DTSTART:20200501T063500Z
DTEND:20200501T064500Z
DTSTAMP:20260421T032735Z
UID:session/HfevdwQ1RBi8Nb66RSkAMt@hasgeek.com
SEQUENCE:0
CREATED:20200420T072920Z
DESCRIPTION:\n
GEO:12.961443;77.64435000000003
LAST-MODIFIED:20200420T072924Z
LOCATION:Online - Online\nIN
ORGANIZER;CN=Rootconf:MAILTO:no-reply@hasgeek.com
BEGIN:VALARM
ACTION:display
DESCRIPTION:Summary and closing in Online in 5 minutes
TRIGGER:-PT5M
END:VALARM
END:VEVENT
END:VCALENDAR
