BEGIN:VCALENDAR
VERSION:2.0
PRODID:-//HasGeek//NONSGML Funnel//EN
DESCRIPTION:Rootconf weekly sessions
X-WR-CALDESC:Rootconf weekly sessions
NAME:SQL War Stories
X-WR-CALNAME:SQL War Stories
REFRESH-INTERVAL;VALUE=DURATION:PT12H
SUMMARY:SQL War Stories
TIMEZONE-ID:Asia/Kolkata
X-PUBLISHED-TTL:PT12H
X-WR-TIMEZONE:Asia/Kolkata
BEGIN:VEVENT
SUMMARY:Overcoming tricky problems with SQL
DTSTART:20200929T133000Z
DTEND:20200929T134500Z
DTSTAMP:20260421T105344Z
UID:session/XEG61FRMYqLrAzXaNgLLbK@hasgeek.com
SEQUENCE:0
CREATED:20200921T122508Z
DESCRIPTION:\n
LAST-MODIFIED:20201108T071810Z
LOCATION:Online
ORGANIZER;CN=Rootconf:MAILTO:no-reply@hasgeek.com
BEGIN:VALARM
ACTION:display
DESCRIPTION:Overcoming tricky problems with SQL in 5 minutes
TRIGGER:-PT5M
END:VALARM
END:VEVENT
BEGIN:VEVENT
SUMMARY:SQL Replication Methods
DTSTART:20200929T134500Z
DTEND:20200929T141500Z
DTSTAMP:20260421T105344Z
UID:session/2eRW6RQfkexPaWTpPriCWE@hasgeek.com
SEQUENCE:0
CREATED:20200921T122524Z
DESCRIPTION:\n
LAST-MODIFIED:20201108T071513Z
LOCATION:Online
ORGANIZER;CN=Rootconf:MAILTO:no-reply@hasgeek.com
BEGIN:VALARM
ACTION:display
DESCRIPTION:SQL Replication Methods in 5 minutes
TRIGGER:-PT5M
END:VALARM
END:VEVENT
BEGIN:VEVENT
SUMMARY:SQL Gotchas
DTSTART:20200929T141500Z
DTEND:20200929T143500Z
DTSTAMP:20260421T105344Z
UID:session/9QbbncPF1bxWGdBk3S8Duh@hasgeek.com
SEQUENCE:0
CREATED:20201108T072230Z
DESCRIPTION:\n
LAST-MODIFIED:20201108T072243Z
LOCATION:Online
ORGANIZER;CN=Rootconf:MAILTO:no-reply@hasgeek.com
BEGIN:VALARM
ACTION:display
DESCRIPTION:SQL Gotchas in 5 minutes
TRIGGER:-PT5M
END:VALARM
END:VEVENT
BEGIN:VEVENT
SUMMARY:Summary and conclusion
DTSTART:20200929T143500Z
DTEND:20200929T144000Z
DTSTAMP:20260421T105344Z
UID:session/GTieLv1QX69g15ePq5iL9J@hasgeek.com
SEQUENCE:0
CREATED:20200921T122537Z
DESCRIPTION:\n
LAST-MODIFIED:20200921T122537Z
LOCATION:Online
ORGANIZER;CN=Rootconf:MAILTO:no-reply@hasgeek.com
BEGIN:VALARM
ACTION:display
DESCRIPTION:Summary and conclusion in 5 minutes
TRIGGER:-PT5M
END:VALARM
END:VEVENT
END:VCALENDAR
