BEGIN:VCALENDAR
VERSION:2.0
PRODID:-//HasGeek//NONSGML Funnel//EN
DESCRIPTION:Identifying and mitigating threats in modern software delivery
X-WR-CALDESC:Identifying and mitigating threats in modern software deliver
 y
NAME:Software supply chain security
X-WR-CALNAME:Software supply chain security
REFRESH-INTERVAL;VALUE=DURATION:PT12H
SUMMARY:Software supply chain security
TIMEZONE-ID:Asia/Kolkata
X-PUBLISHED-TTL:PT12H
X-WR-TIMEZONE:Asia/Kolkata
BEGIN:VEVENT
SUMMARY:An introduction to Software Supply Chain
DTSTART:20230314T103000Z
DTEND:20230314T113000Z
DTSTAMP:20260419T235614Z
UID:session/4AsiwYHbRt5uqTkX15RPfH@hasgeek.com
SEQUENCE:4
CREATED:20230316T060356Z
LAST-MODIFIED:20230316T060413Z
LOCATION:Online
ORGANIZER;CN=Rootconf:MAILTO:no-reply@hasgeek.com
BEGIN:VALARM
ACTION:display
DESCRIPTION:An introduction to Software Supply Chain in 5 minutes
TRIGGER:-PT5M
END:VALARM
END:VEVENT
END:VCALENDAR
