BEGIN:VCALENDAR
VERSION:2.0
PRODID:-//HasGeek//NONSGML Funnel//EN
DESCRIPTION:Experiences from the industry
X-WR-CALDESC:Experiences from the industry
NAME:Setting up a bug bounty programme in your organization
X-WR-CALNAME:Setting up a bug bounty programme in your organization
REFRESH-INTERVAL;VALUE=DURATION:PT12H
SUMMARY:Setting up a bug bounty programme in your organization
TIMEZONE-ID:Asia/Kolkata
X-PUBLISHED-TTL:PT12H
X-WR-TIMEZONE:Asia/Kolkata
BEGIN:VEVENT
SUMMARY:How the team set up a bug bounty programme at Grofers
DTSTART:20230131T103000Z
DTEND:20230131T110000Z
DTSTAMP:20260421T032854Z
UID:session/9vyAanVHB51FWAvaRMjNHh@hasgeek.com
SEQUENCE:12
CREATED:20230118T100312Z
DESCRIPTION:This session will be held online. 
LAST-MODIFIED:20230201T041810Z
LOCATION:Bangalore
ORGANIZER;CN=Rootconf:MAILTO:no-reply@hasgeek.com
BEGIN:VALARM
ACTION:display
DESCRIPTION:How the team set up a bug bounty programme at Grofers in 5 min
 utes
TRIGGER:-PT5M
END:VALARM
END:VEVENT
BEGIN:VEVENT
SUMMARY:Setting up bug bounty programme in organizations that are scaling
DTSTART:20230131T110000Z
DTEND:20230131T113000Z
DTSTAMP:20260421T032854Z
UID:session/D6m9285ThwdPzSkAc1piiG@hasgeek.com
SEQUENCE:9
CREATED:20230124T091159Z
DESCRIPTION:**Slides for this talk are published at <https://docs.google.c
 om/presentation/d/19LIJRMakwiyZv-npdAa4eJU2fKSqJpgbbj_bLxZmoYU/edit?usp=sh
 aring>**
LAST-MODIFIED:20230201T062933Z
LOCATION:Bangalore
ORGANIZER;CN=Rootconf:MAILTO:no-reply@hasgeek.com
BEGIN:VALARM
ACTION:display
DESCRIPTION:Setting up bug bounty programme in organizations that are scal
 ing in 5 minutes
TRIGGER:-PT5M
END:VALARM
END:VEVENT
BEGIN:VEVENT
SUMMARY:Q&A session
DTSTART:20230131T113000Z
DTEND:20230131T115000Z
DTSTAMP:20260421T032854Z
UID:session/SMxsU8FfaqD6RkqvS1aZag@hasgeek.com
SEQUENCE:4
CREATED:20230201T041012Z
LAST-MODIFIED:20230201T041728Z
LOCATION:Bangalore
ORGANIZER;CN=Rootconf:MAILTO:no-reply@hasgeek.com
BEGIN:VALARM
ACTION:display
DESCRIPTION:Q&A session in 5 minutes
TRIGGER:-PT5M
END:VALARM
END:VEVENT
END:VCALENDAR
