BEGIN:VCALENDAR
VERSION:2.0
PRODID:-//HasGeek//NONSGML Funnel//EN
DESCRIPTION:Rootconf Network Engineering Talks
X-WR-CALDESC:Rootconf Network Engineering Talks
NAME:Setting up - and monitoring - home networks
X-WR-CALNAME:Setting up - and monitoring - home networks
REFRESH-INTERVAL;VALUE=DURATION:PT12H
SUMMARY:Setting up - and monitoring - home networks
TIMEZONE-ID:Asia/Kolkata
X-PUBLISHED-TTL:PT12H
X-WR-TIMEZONE:Asia/Kolkata
BEGIN:VEVENT
SUMMARY:Introduction to meetings on home networking
DTSTART:20201015T133000Z
DTEND:20201015T133500Z
DTSTAMP:20260421T210838Z
UID:session/2MmSm7tBvfZqPfbTTptbmp@hasgeek.com
SEQUENCE:0
CREATED:20200922T074732Z
DESCRIPTION:\n
LAST-MODIFIED:20200922T074732Z
LOCATION:Online
ORGANIZER;CN=Rootconf:MAILTO:no-reply@hasgeek.com
BEGIN:VALARM
ACTION:display
DESCRIPTION:Introduction to meetings on home networking in 5 minutes
TRIGGER:-PT5M
END:VALARM
END:VEVENT
BEGIN:VEVENT
SUMMARY:Introduction to meetings on home networking
DTSTART:20201015T133000Z
DTEND:20201015T133500Z
DTSTAMP:20260421T210838Z
UID:session/vrL2UbVAEAnNnDbN3rBqx@hasgeek.com
SEQUENCE:0
CREATED:20200922T074732Z
DESCRIPTION:\n
LAST-MODIFIED:20200922T074732Z
LOCATION:Online
ORGANIZER;CN=Rootconf:MAILTO:no-reply@hasgeek.com
BEGIN:VALARM
ACTION:display
DESCRIPTION:Introduction to meetings on home networking in 5 minutes
TRIGGER:-PT5M
END:VALARM
END:VEVENT
BEGIN:VEVENT
SUMMARY:Monitoring my home ISP network
DTSTART:20201015T133500Z
DTEND:20201015T140500Z
DTSTAMP:20260421T210838Z
UID:session/Q4xa8K6pBt86n8yTBhkvw5@hasgeek.com
SEQUENCE:2
CATEGORIES:Monitoring home networks
CREATED:20200926T063952Z
DESCRIPTION:Telegraf is a very powerful and "extensible" agent which can c
 ollect various metrics about your network stack (HTTP/DNS/ICMP probes). In
  this session\, I'll show how I hosted Telegraf agent on Raspberry Pi 4 co
 nnected to my home LAN and scraped metrics using Prometheus hosted on a VP
 S. I'll also brief over various queries used to create Grafana dashboard t
 o display important information about latencies and respose times. My home
  network is a mesh network created via Tailscale VPN so we'd also get some
  insights on how it has helped to manage different components of the stack
  easily.\n\n### Speaker bio\n\nI'm a developer/ops with interest in all th
 ings Observability\, Self Hosting and Networking.\n
LAST-MODIFIED:20230810T072606Z
LOCATION:Online
ORGANIZER;CN=Rootconf:MAILTO:no-reply@hasgeek.com
URL:https://hasgeek.com/rootconf/setting-up-and-monitoring-home-networks/s
 chedule/monitoring-my-home-isp-network-Q4xa8K6pBt86n8yTBhkvw5
BEGIN:VALARM
ACTION:display
DESCRIPTION:Monitoring my home ISP network in 5 minutes
TRIGGER:-PT5M
END:VALARM
END:VEVENT
BEGIN:VEVENT
SUMMARY:Why monitor home networks and the motivations to do this
DTSTART:20201015T140500Z
DTEND:20201015T141500Z
DTSTAMP:20260421T210838Z
UID:session/HnD1JCTQHTRkGsRSV8W2Bf@hasgeek.com
SEQUENCE:1
CREATED:20200926T064023Z
DESCRIPTION:\n
LAST-MODIFIED:20240123T122018Z
LOCATION:Online
ORGANIZER;CN=Rootconf:MAILTO:no-reply@hasgeek.com
BEGIN:VALARM
ACTION:display
DESCRIPTION:Why monitor home networks and the motivations to do this in 5 
 minutes
TRIGGER:-PT5M
END:VALARM
END:VEVENT
BEGIN:VEVENT
SUMMARY:Discussion
DTSTART:20201015T141500Z
DTEND:20201015T145000Z
DTSTAMP:20260421T210838Z
UID:session/N6c5YUpGbU42Ca7db15M9y@hasgeek.com
SEQUENCE:0
CREATED:20200922T074812Z
DESCRIPTION:\n
LAST-MODIFIED:20200922T074818Z
LOCATION:Online
ORGANIZER;CN=Rootconf:MAILTO:no-reply@hasgeek.com
BEGIN:VALARM
ACTION:display
DESCRIPTION:Discussion in 5 minutes
TRIGGER:-PT5M
END:VALARM
END:VEVENT
END:VCALENDAR
