BEGIN:VCALENDAR
VERSION:2.0
PRODID:-//HasGeek//NONSGML Funnel//EN
DESCRIPTION:Ensuring security and confidentiality of data across devices w
 hen working from home
X-WR-CALDESC:Ensuring security and confidentiality of data across devices 
 when working from home
NAME:Your Trusted Office WiFi is AWOL
X-WR-CALNAME:Your Trusted Office WiFi is AWOL
REFRESH-INTERVAL;VALUE=DURATION:PT12H
SUMMARY:Your Trusted Office WiFi is AWOL
TIMEZONE-ID:Asia/Kolkata
X-PUBLISHED-TTL:PT12H
X-WR-TIMEZONE:Asia/Kolkata
BEGIN:VEVENT
SUMMARY:Introduction to the session and the moderator
DTSTART:20200422T140000Z
DTEND:20200422T140500Z
DTSTAMP:20260419T170321Z
UID:session/3LbfbFWysh6YqgbQZ8ho6Q@hasgeek.com
SEQUENCE:0
CREATED:20200417T134239Z
DESCRIPTION:\n
GEO:12.961443;77.64435000000003
LAST-MODIFIED:20200422T041934Z
LOCATION:Online - Online\nIN
ORGANIZER;CN=Rootconf:MAILTO:no-reply@hasgeek.com
BEGIN:VALARM
ACTION:display
DESCRIPTION:Introduction to the session and the moderator in Online in 5 m
 inutes
TRIGGER:-PT5M
END:VALARM
END:VEVENT
BEGIN:VEVENT
SUMMARY:Introduction to the speakers\; overview of the session and what to
  expect
DTSTART:20200422T140500Z
DTEND:20200422T141000Z
DTSTAMP:20260419T170321Z
UID:session/MTuoPcefyfC9UzkTU3cdAP@hasgeek.com
SEQUENCE:0
CREATED:20200417T134311Z
DESCRIPTION:\n
GEO:12.961443;77.64435000000003
LAST-MODIFIED:20200422T041936Z
LOCATION:Online - Online\nIN
ORGANIZER;CN=Rootconf:MAILTO:no-reply@hasgeek.com
BEGIN:VALARM
ACTION:display
DESCRIPTION:Introduction to the speakers\; overview of the session and wha
 t to expect in Online in 5 minutes
TRIGGER:-PT5M
END:VALARM
END:VEVENT
BEGIN:VEVENT
SUMMARY:Security when working from home
DTSTART:20200422T141000Z
DTEND:20200422T142500Z
DTSTAMP:20260419T170321Z
UID:session/R8XpEBfkSnpVx8WitjQGrh@hasgeek.com
SEQUENCE:1
CREATED:20200417T134502Z
DESCRIPTION:1. Device Security \n2. MDMs Networks\n3. Securing home networ
 k or WiFi social engineering\n
GEO:12.961443;77.64435000000003
LAST-MODIFIED:20230108T103046Z
LOCATION:Online - Online\nIN
ORGANIZER;CN=Rootconf:MAILTO:no-reply@hasgeek.com
BEGIN:VALARM
ACTION:display
DESCRIPTION:Security when working from home in Online in 5 minutes
TRIGGER:-PT5M
END:VALARM
END:VEVENT
BEGIN:VEVENT
SUMMARY:Communication channels
DTSTART:20200422T142500Z
DTEND:20200422T144000Z
DTSTAMP:20260419T170321Z
UID:session/RDhXtf8rEDyNkt4LLWtyc3@hasgeek.com
SEQUENCE:1
CREATED:20200417T134545Z
DESCRIPTION:Weakness and configuration channels such as Zoom\, Teams\, Sky
 pe\n
GEO:12.961443;77.64435000000003
LAST-MODIFIED:20230108T103046Z
LOCATION:Online - Online\nIN
ORGANIZER;CN=Rootconf:MAILTO:no-reply@hasgeek.com
BEGIN:VALARM
ACTION:display
DESCRIPTION:Communication channels in Online in 5 minutes
TRIGGER:-PT5M
END:VALARM
END:VEVENT
BEGIN:VEVENT
SUMMARY:Organizations
DTSTART:20200422T144000Z
DTEND:20200422T145500Z
DTSTAMP:20260419T170321Z
UID:session/UYN5Kk7D4uRJrvxr7Dszdq@hasgeek.com
SEQUENCE:1
CREATED:20200417T134641Z
DESCRIPTION:1. Strengthening BYOD \n2. Zero Trust Networks \n3. Flexible b
 ut robust Network Boundaries \n4. Data handling and encryption \n5. Online
  Collab Tools/Apps\n6. Support Issues\n
GEO:12.961443;77.64435000000003
LAST-MODIFIED:20230108T103046Z
LOCATION:Online - Online\nIN
ORGANIZER;CN=Rootconf:MAILTO:no-reply@hasgeek.com
BEGIN:VALARM
ACTION:display
DESCRIPTION:Organizations in Online in 5 minutes
TRIGGER:-PT5M
END:VALARM
END:VEVENT
BEGIN:VEVENT
SUMMARY:Summary and Q&A open for participants
DTSTART:20200422T145500Z
DTEND:20200422T152500Z
DTSTAMP:20260419T170321Z
UID:session/Fb1uofViDD5EhFRNnR3sbD@hasgeek.com
SEQUENCE:0
CREATED:20200417T134712Z
DESCRIPTION:\n
GEO:12.961443;77.64435000000003
LAST-MODIFIED:20200422T041956Z
LOCATION:Online - Online\nIN
ORGANIZER;CN=Rootconf:MAILTO:no-reply@hasgeek.com
BEGIN:VALARM
ACTION:display
DESCRIPTION:Summary and Q&A open for participants in Online in 5 minutes
TRIGGER:-PT5M
END:VALARM
END:VEVENT
BEGIN:VEVENT
SUMMARY:Summary and conclusion
DTSTART:20200422T152500Z
DTEND:20200422T153000Z
DTSTAMP:20260419T170321Z
UID:session/VNh3Re1SPVN2dTJUVGCyLf@hasgeek.com
SEQUENCE:0
CREATED:20200417T134732Z
DESCRIPTION:\n
GEO:12.961443;77.64435000000003
LAST-MODIFIED:20200422T041959Z
LOCATION:Online - Online\nIN
ORGANIZER;CN=Rootconf:MAILTO:no-reply@hasgeek.com
BEGIN:VALARM
ACTION:display
DESCRIPTION:Summary and conclusion in Online in 5 minutes
TRIGGER:-PT5M
END:VALARM
END:VEVENT
END:VCALENDAR
