BEGIN:VCALENDAR
VERSION:2.0
PRODID:-//HasGeek//NONSGML Funnel//EN
DESCRIPTION:How companies can learn from the Zoom case to build better pro
 ducts as they adapt to a new business environment
X-WR-CALDESC:How companies can learn from the Zoom case to build better pr
 oducts as they adapt to a new business environment
NAME:Zoom and the art of the big pivot: Micah Lee and Vivek Durai on Zoom'
 s Facebook Moment
X-WR-CALNAME:Zoom and the art of the big pivot: Micah Lee and Vivek Durai 
 on Zoom's Facebook Moment
REFRESH-INTERVAL;VALUE=DURATION:PT12H
SUMMARY:Zoom and the art of the big pivot: Micah Lee and Vivek Durai on Zo
 om's Facebook Moment
TIMEZONE-ID:Asia/Kolkata
X-PUBLISHED-TTL:PT12H
X-WR-TIMEZONE:Asia/Kolkata
BEGIN:VEVENT
SUMMARY:Introduction to the event\; announcing house rules
DTSTART:20200429T153000Z
DTEND:20200429T154000Z
DTSTAMP:20260421T031724Z
UID:session/VyVfyZXbtuArRnN937ode9@hasgeek.com
SEQUENCE:0
CREATED:20200420T062318Z
DESCRIPTION:\n
GEO:12.961443;77.64435000000003
LAST-MODIFIED:20200420T062403Z
LOCATION:Online - Online\nIN
ORGANIZER;CN=Rootconf:MAILTO:no-reply@hasgeek.com
BEGIN:VALARM
ACTION:display
DESCRIPTION:Introduction to the event\; announcing house rules in Online i
 n 5 minutes
TRIGGER:-PT5M
END:VALARM
END:VEVENT
BEGIN:VEVENT
SUMMARY:Segment 1: Intercept's investigation of Zoom - how it all started\
 ; pointers to key issues
DTSTART:20200429T154000Z
DTEND:20200429T160000Z
DTSTAMP:20260421T031724Z
UID:session/X15Puef5xwoSTXcrRTxWAu@hasgeek.com
SEQUENCE:0
CREATED:20200420T062501Z
DESCRIPTION:\n
GEO:12.961443;77.64435000000003
LAST-MODIFIED:20200608T082204Z
LOCATION:Online - Online\nIN
ORGANIZER;CN=Rootconf:MAILTO:no-reply@hasgeek.com
BEGIN:VALARM
ACTION:display
DESCRIPTION:Segment 1: Intercept's investigation of Zoom - how it all star
 ted\; pointers to key issues in Online in 5 minutes
TRIGGER:-PT5M
END:VALARM
END:VEVENT
BEGIN:VEVENT
SUMMARY:Segment 2: Data security and data privacy: conceptual and practica
 l distinctions\; where are the lines fuzzy?
DTSTART:20200429T160000Z
DTEND:20200429T162000Z
DTSTAMP:20260421T031724Z
UID:session/V51KNCyKsPi22JHmwU18Rd@hasgeek.com
SEQUENCE:0
CREATED:20200420T062549Z
DESCRIPTION:\n
LAST-MODIFIED:20200420T062554Z
LOCATION:Online
ORGANIZER;CN=Rootconf:MAILTO:no-reply@hasgeek.com
BEGIN:VALARM
ACTION:display
DESCRIPTION:Segment 2: Data security and data privacy: conceptual and prac
 tical distinctions\; where are the lines fuzzy? in 5 minutes
TRIGGER:-PT5M
END:VALARM
END:VEVENT
BEGIN:VEVENT
SUMMARY:Segment 3: Product design and security: questions opened up by sec
 urity concerns surrounding Zoom.
DTSTART:20200429T162000Z
DTEND:20200429T164000Z
DTSTAMP:20260421T031724Z
UID:session/PGM7QmwQc4fZhntspvuinA@hasgeek.com
SEQUENCE:0
CREATED:20200420T062738Z
DESCRIPTION:\n
GEO:12.961443;77.64435000000003
LAST-MODIFIED:20200420T062742Z
LOCATION:Online - Online\nIN
ORGANIZER;CN=Rootconf:MAILTO:no-reply@hasgeek.com
BEGIN:VALARM
ACTION:display
DESCRIPTION:Segment 3: Product design and security: questions opened up by
  security concerns surrounding Zoom. in Online in 5 minutes
TRIGGER:-PT5M
END:VALARM
END:VEVENT
BEGIN:VEVENT
SUMMARY:Q&A from participants
DTSTART:20200429T164000Z
DTEND:20200429T165500Z
DTSTAMP:20260421T031724Z
UID:session/448ur8sdogA65SdhMnyvGC@hasgeek.com
SEQUENCE:0
CREATED:20200420T062808Z
DESCRIPTION:\n
GEO:12.961443;77.64435000000003
LAST-MODIFIED:20200420T062813Z
LOCATION:Online - Online\nIN
ORGANIZER;CN=Rootconf:MAILTO:no-reply@hasgeek.com
BEGIN:VALARM
ACTION:display
DESCRIPTION:Q&A from participants in Online in 5 minutes
TRIGGER:-PT5M
END:VALARM
END:VEVENT
BEGIN:VEVENT
SUMMARY:Segment 4: Mass adoption of Zoom versus security concerns: who is 
 affected and how? An interrogation for tech practitioners.
DTSTART:20200429T165500Z
DTEND:20200429T171500Z
DTSTAMP:20260421T031724Z
UID:session/Kb9a1VMafZw3BfFG2NdeQT@hasgeek.com
SEQUENCE:0
CREATED:20200420T062919Z
DESCRIPTION:\n
GEO:12.961443;77.64435000000003
LAST-MODIFIED:20200420T062927Z
LOCATION:Online - Online\nIN
ORGANIZER;CN=Rootconf:MAILTO:no-reply@hasgeek.com
BEGIN:VALARM
ACTION:display
DESCRIPTION:Segment 4: Mass adoption of Zoom versus security concerns: who
  is affected and how? An interrogation for tech practitioners. in Online i
 n 5 minutes
TRIGGER:-PT5M
END:VALARM
END:VEVENT
BEGIN:VEVENT
SUMMARY:Segment 6: Wrap-up with questions for business\, tech and customer
 s - what are the new horizons for tech companies?
DTSTART:20200429T171500Z
DTEND:20200429T173000Z
DTSTAMP:20260421T031724Z
UID:session/TvFhQMcwHhnF62jR6R5zwX@hasgeek.com
SEQUENCE:0
CREATED:20200420T063044Z
DESCRIPTION:\n
GEO:12.961443;77.64435000000003
LAST-MODIFIED:20200420T063047Z
LOCATION:Online - Online\nIN
ORGANIZER;CN=Rootconf:MAILTO:no-reply@hasgeek.com
BEGIN:VALARM
ACTION:display
DESCRIPTION:Segment 6: Wrap-up with questions for business\, tech and cust
 omers - what are the new horizons for tech companies? in Online in 5 minut
 es
TRIGGER:-PT5M
END:VALARM
END:VEVENT
END:VCALENDAR
