BEGIN:VCALENDAR
VERSION:2.0
PRODID:-//HasGeek//NONSGML Funnel//EN
DESCRIPTION:Discussion series
X-WR-CALDESC:Discussion series
NAME:Security for health infrastructure
X-WR-CALNAME:Security for health infrastructure
REFRESH-INTERVAL;VALUE=DURATION:PT12H
SUMMARY:Security for health infrastructure
TIMEZONE-ID:Asia/Kolkata
X-PUBLISHED-TTL:PT12H
X-WR-TIMEZONE:Asia/Kolkata
BEGIN:VEVENT
SUMMARY:Twitter Spaces discussion on security for health infrastructure
DTSTART:20221208T133000Z
DTEND:20221208T143000Z
DTSTAMP:20260419T170440Z
UID:session/7zVTtq5sNRFzzNHp7UnTpw@hasgeek.com
SEQUENCE:5
CREATED:20221206T034014Z
DESCRIPTION:This session will be held via the [Rootconf handle on Twitter]
 (https://twitter.com/rootconf)\n\nThe link for the Spaces discussion is ht
 tps://twitter.com/i/spaces/1BRJjZoaZXjJw
LAST-MODIFIED:20230108T103046Z
LOCATION:Online
ORGANIZER;CN=Rootconf:MAILTO:no-reply@hasgeek.com
BEGIN:VALARM
ACTION:display
DESCRIPTION:Twitter Spaces discussion on security for health infrastructur
 e in 5 minutes
TRIGGER:-PT5M
END:VALARM
END:VEVENT
BEGIN:VEVENT
SUMMARY:Public health infrastructure and risk mitigation
DTSTART:20230113T123000Z
DTEND:20230113T133000Z
DTSTAMP:20260419T170440Z
UID:session/P3mVtwxYoPuqupEtyq5qCw@hasgeek.com
SEQUENCE:4
CREATED:20221208T133923Z
LAST-MODIFIED:20221208T134028Z
LOCATION:Online
ORGANIZER;CN=Rootconf:MAILTO:no-reply@hasgeek.com
BEGIN:VALARM
ACTION:display
DESCRIPTION:Public health infrastructure and risk mitigation in 5 minutes
TRIGGER:-PT5M
END:VALARM
END:VEVENT
END:VCALENDAR
