BEGIN:VCALENDAR
VERSION:2.0
PRODID:-//HasGeek//NONSGML Funnel//EN
DESCRIPTION:Share real-world security challenges and insights with peers
X-WR-CALDESC:Share real-world security challenges and insights with peers
NAME:Security engineers' Birds of Feather (BOF)
X-WR-CALNAME:Security engineers' Birds of Feather (BOF)
REFRESH-INTERVAL;VALUE=DURATION:PT12H
SUMMARY:Security engineers' Birds of Feather (BOF)
TIMEZONE-ID:Asia/Kolkata
X-PUBLISHED-TTL:PT12H
X-WR-TIMEZONE:Asia/Kolkata
BEGIN:VEVENT
SUMMARY:Security engineers' Birds of Feather (BOF)
DTSTART:20250530T123000Z
DTEND:20250530T134500Z
DTSTAMP:20260420T034258Z
UID:session/9MGBQE32MMjF2ApQTYgJbm@hasgeek.com
SEQUENCE:8
CREATED:20250529T094110Z
DESCRIPTION:## Birds of Feather (BOF) discussion where participants share 
 experiences\, insights and stories from production\n**Birds of a Feather (
 BOF) session is an informal but deeply technical and safe space for securi
 ty engineers to exchange ideas and work through real-world challenges with
  peers.**\nThis space thrives on participation - it works best when everyo
 ne contributes from their own experiences.\nIf your role or employer restr
 icts you from sharing details of your work\, we recommend that you attend 
 [Rootconf](https://hasgeek.com/rootconf) meet-ups instead\, which are desi
 gned around talks and are better suited for a more passive\, consumption-d
 riven format.\n\n## About the facilitator\nThis month's Rootconf security 
 engineers' BOF will be led by Rohit Kumar. Rohit is a Product Security Eng
 ineer @ Groww. He loves working on Supply Chain Security and source code s
 ecurity domain. \n\nRohit taught a workshop on [eBPF at Rootconf 2025](htt
 ps://hasgeek.com/rootconf/ebpf-for-detecting-supply-chain-attacks-workshop
 /) and spoke about [uncovering supply chain attacks with eBPF](https://has
 geek.com/rootconf/2025/sub/from-dependency-to-deception-uncovering-supply-
 cha-51xrGKxDktoz19Fodg7VAo).    \n\n## 👥 Who should join?  \n- 🔹 **S
 ecurity engineers** working on **AppSec\, CloudSec\, Supply Chain Security
 \, CI/CD\, and more!**  \n- 🔹 Anyone eager to share **real-world experi
 ences\, challenges\, and solutions** in security engineering.  \n\n💡 We
  start with a topic or two\, then let the conversation flow organically:  
 \n🚫 No sales pitches.  \n🚫 No conversation hogs.  \n✅ Just great d
 iscussions! 🎯  \n\n## 🚫 Who is this NOT for?  \n🚫 SOC analysts & 
 pentesters — this is an engineering-focused session.  \n🚫 This is not
  a beginner-friendly session (no “how to start in security” or “whic
 h certs to get”).  \n\nWe’re here to tackle real-world engineering cha
 llenges together! 💪  \n\n## 🏢 What to expect?  \n✅ A **chill space
 ** with a table\, chairs\, and like-minded peers.  \n✅ **Water** to stay
  hydrated. ☕  \n✅ A **snack from the corner chai shop** 🍪 (if contr
 ibutions are made!)  \n\n## 🎟️ How to join?\n✅ **FREE** for [Rootco
 nf members](https://hasgeek.com/rootconf/membership2024/)!  \n✅ Non-memb
 ers can attend for free. **Snack contributions** will be shared at the ven
 ue.  \n\n## 📞 Contact\n☎️ **Call:** 7676332020  \n📧 **Email:** i
 nfo@hasgeek.com  \n💬 **Comment:** [Security Engineers' BoF](https://has
 geek.com/rootconf/security-engineers-bof-may-2025/comments]
LAST-MODIFIED:20250529T225636Z
LOCATION:Underline Centre\, Bangalore - https://hasgeek.com/rootconf/secur
 ity-engineers-bof-may-2025/
ORGANIZER;CN=Rootconf:MAILTO:no-reply@hasgeek.com
URL:https://hasgeek.com/rootconf/security-engineers-bof-may-2025/
BEGIN:VALARM
ACTION:display
DESCRIPTION:Security engineers' Birds of Feather (BOF) in 5 minutes
TRIGGER:-PT5M
END:VALARM
END:VEVENT
END:VCALENDAR
