BEGIN:VCALENDAR
VERSION:2.0
PRODID:-//HasGeek//NONSGML Funnel//EN
DESCRIPTION:Scaling from First Principles
X-WR-CALDESC:Scaling from First Principles
NAME:Scaling with Common Sense
X-WR-CALNAME:Scaling with Common Sense
REFRESH-INTERVAL;VALUE=DURATION:PT12H
SUMMARY:Scaling with Common Sense
TIMEZONE-ID:Asia/Kolkata
X-PUBLISHED-TTL:PT12H
X-WR-TIMEZONE:Asia/Kolkata
BEGIN:VEVENT
SUMMARY:Scaling with Common Sense
DTSTART:20201217T130000Z
DTEND:20201217T140000Z
DTSTAMP:20260421T114014Z
UID:session/8NR3X8LA6VLxG1jxBNrSku@hasgeek.com
SEQUENCE:0
CREATED:20201123T090354Z
DESCRIPTION:\n
LAST-MODIFIED:20201221T050511Z
LOCATION:Online
ORGANIZER;CN=Rootconf:MAILTO:no-reply@hasgeek.com
BEGIN:VALARM
ACTION:display
DESCRIPTION:Scaling with Common Sense in 5 minutes
TRIGGER:-PT5M
END:VALARM
END:VEVENT
END:VCALENDAR
