BEGIN:VCALENDAR
VERSION:2.0
PRODID:-//HasGeek//NONSGML Funnel//EN
DESCRIPTION:Scaling from First Principles
X-WR-CALDESC:Scaling from First Principles
NAME:Scaling Up
X-WR-CALNAME:Scaling Up
REFRESH-INTERVAL;VALUE=DURATION:PT12H
SUMMARY:Scaling Up
TIMEZONE-ID:Asia/Kolkata
X-PUBLISHED-TTL:PT12H
X-WR-TIMEZONE:Asia/Kolkata
BEGIN:VEVENT
SUMMARY:Scaling Up - building infrastructure from first principles
DTSTART:20210121T130000Z
DTEND:20210121T141500Z
DTSTAMP:20260421T112746Z
UID:session/YBMF9wpsZQLNC2LoyDmxYK@hasgeek.com
SEQUENCE:0
CREATED:20210114T060023Z
DESCRIPTION:\n
LAST-MODIFIED:20210123T070447Z
LOCATION:Online
ORGANIZER;CN=Rootconf:MAILTO:no-reply@hasgeek.com
BEGIN:VALARM
ACTION:display
DESCRIPTION:Scaling Up - building infrastructure from first principles in 
 5 minutes
TRIGGER:-PT5M
END:VALARM
END:VEVENT
END:VCALENDAR
