BEGIN:VCALENDAR
VERSION:2.0
PRODID:-//HasGeek//NONSGML Funnel//EN
DESCRIPTION:Scaling Infrastructure
X-WR-CALDESC:Scaling Infrastructure
NAME:Scaling from the First Principles
X-WR-CALNAME:Scaling from the First Principles
REFRESH-INTERVAL;VALUE=DURATION:PT12H
SUMMARY:Scaling from the First Principles
TIMEZONE-ID:Asia/Kolkata
X-PUBLISHED-TTL:PT12H
X-WR-TIMEZONE:Asia/Kolkata
BEGIN:VEVENT
SUMMARY:Scaling from the first principles
DTSTART:20201119T130000Z
DTEND:20201119T140000Z
DTSTAMP:20260421T100152Z
UID:session/GnkJSVZYu9uopMagjrRohd@hasgeek.com
SEQUENCE:0
CREATED:20201108T081107Z
DESCRIPTION:\n
LAST-MODIFIED:20201108T081815Z
LOCATION:Online
ORGANIZER;CN=Rootconf:MAILTO:no-reply@hasgeek.com
BEGIN:VALARM
ACTION:display
DESCRIPTION:Scaling from the first principles in 5 minutes
TRIGGER:-PT5M
END:VALARM
END:VEVENT
END:VCALENDAR
