BEGIN:VCALENDAR
VERSION:2.0
PRODID:-//HasGeek//NONSGML Funnel//EN
DESCRIPTION:Rootconf BOF - Delhi edition
X-WR-CALDESC:Rootconf BOF - Delhi edition
NAME:Reliability at scale: lessons from the front lines
X-WR-CALNAME:Reliability at scale: lessons from the front lines
REFRESH-INTERVAL;VALUE=DURATION:PT12H
SUMMARY:Reliability at scale: lessons from the front lines
TIMEZONE-ID:Asia/Kolkata
X-PUBLISHED-TTL:PT12H
X-WR-TIMEZONE:Asia/Kolkata
BEGIN:VEVENT
SUMMARY:Reliability at scale: lessons from the front lines
DTSTART:20250320T120000Z
DTEND:20250320T131500Z
DTSTAMP:20260420T034601Z
UID:session/9qeZWDgsdyjsVHqEQfmeMf@hasgeek.com
SEQUENCE:13
CREATED:20250313T031131Z
DESCRIPTION:## Join the Birds of a Feather (BOF) on scaling challenges and
  strategies 🚀  \n\nScaling platforms and teams is no easy feat. As syst
 ems grow\, so do reliability challenges\, operational complexities\, and t
 he need for robust monitoring and observability. Participate in this Birds
  of a Feather (BOF) session to discuss real-world scaling experiences\, sh
 are experiential insights\, and learn from peers in the industry.  \n\n
 🚨 **Limited Seats Available!** This BOF is open for only **10-15 partic
 ipants** to keep the discussion focussed and meaningful.  \n\n📢 **Impor
 tant:** While participation is free\, you can **support this activity** by
  picking up a **[Rootconf membership](https://hasgeek.com/rootconf/#member
 ship)**.  \n\n## 🔹 What is this BOF session about?\nThis session is an 
 in-depth discussion on scaling challenges and strategies\, covering:  \n- 
 The biggest reliability and operational challenges teams face while scalin
 g.  \n- When to scale proactively vs. reactively and how to decide.  \n- L
 essons learned about managing complexity in growing organizations.  \n- Ho
 w monitoring\, alerting\, and observability evolve with scale.  \n- The ro
 le of culture and organizational structures in sustainable scaling.  \n- W
 hat platform maturity means in different contexts.  \n\nThe BOF will be mo
 derated by **[Rootconf editor Yagnik Khanna](https://hasgeek.com/yagnik)\,
  in collaboration with Rootconf member [Jasbir Khera](https://hasgeek.com/
 jassik)**. Attendees are expected to participate by contributing their exp
 eriences and learnings.    \n\n## 🔹 Who should attend?\nIf you are pass
 tionate about operability\, reliability\, and platform evolution\, this BO
 F is for you. The topics and format of this BOF is targeted for senior eng
 ineering practiioners. Hence\, if you are one of the following\, feel free
  to register:\n- Engineering managers & tech leads growing teams & platfor
 ms  \n- Architects planning for future scalability\n- Organizational leade
 rs such as CTOs and tech founders.   \n\n## 🔹 Key takeaways\n✅ Insigh
 ts from real-world scaling experiences  \n✅ Strategies to manage complex
 ity while scaling teams & systems  \n✅ Best practices for monitoring\, a
 lerting\, and observability  \n✅ Lessons in proactive vs. reactive scali
 ng  \n✅ Networking with experts & practitioners tackling similar challen
 ges  \n\n## 🔹 How to participate\n**This BOF is open for 10-15 particip
 ants only.** Hit the register button to secure your spot.  \n\n📅 **Date
 :** Thursday\, 20 March 2025  \n📍 **Venue:** Board room 5A\, WeWork Two
  Horizon Centre\, Gurugram\n🎟️ **Register here:** https://hasgeek.com
 /rootconf/scaling-bof-delhi-mar-2025/\n\n## 🔹 Thanks to our sponsor \nI
 mageKit.io for supporting the March edition of the scaling BOF.\n\n## Cont
 act\n☎️ Call - 7676332020\n📧 Email - info@hasgeek.com\n💬 Leave a
  comment at https://hasgeek.com/rootconf/security-engineers-bof/
LAST-MODIFIED:20250320T114611Z
LOCATION:WeWork\, Delhi - https://hasgeek.com/rootconf/scaling-bof-delhi-m
 ar-2025/
ORGANIZER;CN=Rootconf:MAILTO:no-reply@hasgeek.com
URL:https://hasgeek.com/rootconf/scaling-bof-delhi-mar-2025/
BEGIN:VALARM
ACTION:display
DESCRIPTION:Reliability at scale: lessons from the front lines in 5 minute
 s
TRIGGER:-PT5M
END:VALARM
END:VEVENT
END:VCALENDAR
