BEGIN:VCALENDAR
VERSION:2.0
PRODID:-//HasGeek//NONSGML Funnel//EN
DESCRIPTION:A hand-on workshop
X-WR-CALDESC:A hand-on workshop
NAME:Running a recursive DNS resolver on your system or in the network
X-WR-CALNAME:Running a recursive DNS resolver on your system or in the net
 work
REFRESH-INTERVAL;VALUE=DURATION:PT12H
SUMMARY:Running a recursive DNS resolver on your system or in the network
TIMEZONE-ID:Asia/Kolkata
X-PUBLISHED-TTL:PT12H
X-WR-TIMEZONE:Asia/Kolkata
BEGIN:VEVENT
SUMMARY:Introduction to the workshop agenda
DTSTART:20201003T043000Z
DTEND:20201003T043500Z
DTSTAMP:20260419T231114Z
UID:session/P6UHtrCUHVtnYkDGCSv83n@hasgeek.com
SEQUENCE:0
CREATED:20200830T114659Z
DESCRIPTION:\n
LAST-MODIFIED:20200830T114659Z
LOCATION:Online
ORGANIZER;CN=Rootconf:MAILTO:no-reply@hasgeek.com
BEGIN:VALARM
ACTION:display
DESCRIPTION:Introduction to the workshop agenda in 5 minutes
TRIGGER:-PT5M
END:VALARM
END:VEVENT
BEGIN:VEVENT
SUMMARY:Take back control of your DNS - Run a recursive resolver on your s
 ystem or in the network
DTSTART:20201003T043500Z
DTEND:20201003T053000Z
DTSTAMP:20260419T231114Z
UID:session/99T7Dts4sSDHm23ZVdF8uN@hasgeek.com
SEQUENCE:2
CREATED:20200830T114848Z
DESCRIPTION:Why attend ? \n1. Take back control of your DNS instead of out
 sourcing it to a third party\n2. Decentralise the DNS Resolution - DNS Res
 olver centrality outlines the dependency on Open resolvers/Quad DNS provid
 ers\n3. Majority of DNS queries sent to the root server system are junk qu
 eries. By running a local copy of the root zone (rfc8806)\, junk queries f
 rom your system/network to the upstream root servers are eliminated \n\nAg
 enda -\n1. Fundamentals of DNS\n2. Shift of the recursive resolvers\n3. DN
 S Resolver Centrality stats \n3. Configure a recursive resolver on your sy
 stem with QNAME minimisation\, local copy of the root zone etc\n4. Configu
 re a recursive resolver for the entire network\n5. Best practices \n\nWho 
 should attend?\n1. Anyone running a network - In today's world\, everyone 
 is running a network at home! \n2. Anyone who cares about the decentralisi
 ng the Internet\n3. Anyone who is interested in DNS\n4. Engineers\, progra
 mmers\, system administrators\n5. All are welcome :-)\n\n### Speaker bio\n
 \nSwapneel is network engineer & researcher working on DNS\, DNSSEC\, BGP\
 , Unix systems and security.  As a technical trainer\, he regularly conduc
 ts workshops on DNS\, DNSSEC\, Routing\, Unix etc. He is also an APNIC Com
 munity Trainer & a RIPE Atlas Ambassador.\n\nIn the recent past\, he has d
 elivered talks\, \n\nUKNOF Virtual July 2020 - Hyperlocal root & Localroot
  - Running a local copy of the DNS root zone\nhttps://indico.uknof.org.uk/
 event/51/contributions/speakers\n\nAPNIC NFH June 2020 - Hyperlocal root &
  Localroot - Running a local copy of the DNS root zone\nhttps://nfh.apnic.
 net/events/sea/#/day/1\n\nnull meetups May\, June\, July 2020 (Bhopal\, Mu
 mbai\, Bangalore) - Using DNS as a layer of defense \nhttps://null.communi
 ty/profile/19522-swapneel-patnekar\n\nHe is also the Managing Director of 
 Shreshta IT Technologies Pvt. Ltd\, a company based out of Belgaum\, build
 ing & securing networks of micro\, small & medium enterprises & network op
 erators in Tier-II and Tier-III cities.\n
LAST-MODIFIED:20230810T072606Z
LOCATION:Online
ORGANIZER;CN=Rootconf:MAILTO:no-reply@hasgeek.com
URL:https://hasgeek.com/rootconf/running-a-recursive-dns-resolver-on-your-
 system-or-in-the-network/schedule/take-back-control-of-your-dns-run-a-recu
 rsive-resolver-on-your-system-or-in-the-network-99T7Dts4sSDHm23ZVdF8uN
BEGIN:VALARM
ACTION:display
DESCRIPTION:Take back control of your DNS - Run a recursive resolver on yo
 ur system or in the network in 5 minutes
TRIGGER:-PT5M
END:VALARM
END:VEVENT
BEGIN:VEVENT
SUMMARY:Break
DTSTART:20201003T053000Z
DTEND:20201003T054500Z
DTSTAMP:20260419T231114Z
UID:session/UCXjUThdT8jGiH2QEuh7BN@hasgeek.com
SEQUENCE:0
CREATED:20200830T114902Z
DESCRIPTION:\n
LAST-MODIFIED:20200830T114927Z
LOCATION:Online
ORGANIZER;CN=Rootconf:MAILTO:no-reply@hasgeek.com
BEGIN:VALARM
ACTION:display
DESCRIPTION:Break in 5 minutes
TRIGGER:-PT5M
END:VALARM
END:VEVENT
BEGIN:VEVENT
SUMMARY:Take back control of your DNS - Run a recursive resolver on your s
 ystem or in the network
DTSTART:20201003T054500Z
DTEND:20201003T063000Z
DTSTAMP:20260419T231114Z
UID:session/7Eg32CCKxYRCnqPy1AaTSa@hasgeek.com
SEQUENCE:0
CREATED:20200830T114912Z
DESCRIPTION:\n
LAST-MODIFIED:20200830T114931Z
LOCATION:Online
ORGANIZER;CN=Rootconf:MAILTO:no-reply@hasgeek.com
BEGIN:VALARM
ACTION:display
DESCRIPTION:Take back control of your DNS - Run a recursive resolver on yo
 ur system or in the network in 5 minutes
TRIGGER:-PT5M
END:VALARM
END:VEVENT
BEGIN:VEVENT
SUMMARY:Break
DTSTART:20201003T063000Z
DTEND:20201003T064000Z
DTSTAMP:20260419T231114Z
UID:session/PjEzj4rKqzq6sw5z6yyjKJ@hasgeek.com
SEQUENCE:0
CREATED:20200830T114938Z
DESCRIPTION:\n
LAST-MODIFIED:20200830T114941Z
LOCATION:Online
ORGANIZER;CN=Rootconf:MAILTO:no-reply@hasgeek.com
BEGIN:VALARM
ACTION:display
DESCRIPTION:Break in 5 minutes
TRIGGER:-PT5M
END:VALARM
END:VEVENT
BEGIN:VEVENT
SUMMARY:Take back control of your DNS - Run a recursive resolver on your s
 ystem or in the network
DTSTART:20201003T064000Z
DTEND:20201003T073000Z
DTSTAMP:20260419T231114Z
UID:session/RwKpdNpAALuNzgQiEoVBGx@hasgeek.com
SEQUENCE:0
CREATED:20200830T114945Z
DESCRIPTION:\n
LAST-MODIFIED:20200830T114950Z
LOCATION:Online
ORGANIZER;CN=Rootconf:MAILTO:no-reply@hasgeek.com
BEGIN:VALARM
ACTION:display
DESCRIPTION:Take back control of your DNS - Run a recursive resolver on yo
 ur system or in the network in 5 minutes
TRIGGER:-PT5M
END:VALARM
END:VEVENT
BEGIN:VEVENT
SUMMARY:Lunch break
DTSTART:20201003T073000Z
DTEND:20201003T081500Z
DTSTAMP:20260419T231114Z
UID:session/FicE7iCWRu6PzaVGH9zAo5@hasgeek.com
SEQUENCE:0
CREATED:20200830T114955Z
DESCRIPTION:\n
LAST-MODIFIED:20200830T115003Z
LOCATION:Online
ORGANIZER;CN=Rootconf:MAILTO:no-reply@hasgeek.com
BEGIN:VALARM
ACTION:display
DESCRIPTION:Lunch break in 5 minutes
TRIGGER:-PT5M
END:VALARM
END:VEVENT
BEGIN:VEVENT
SUMMARY:Take back control of your DNS - Run a recursive resolver on your s
 ystem or in the network
DTSTART:20201003T081500Z
DTEND:20201003T091000Z
DTSTAMP:20260419T231114Z
UID:session/TPjKQyBndqn1JbsyxMb1AY@hasgeek.com
SEQUENCE:0
CREATED:20200830T115007Z
DESCRIPTION:\n
LAST-MODIFIED:20200830T115010Z
LOCATION:Online
ORGANIZER;CN=Rootconf:MAILTO:no-reply@hasgeek.com
BEGIN:VALARM
ACTION:display
DESCRIPTION:Take back control of your DNS - Run a recursive resolver on yo
 ur system or in the network in 5 minutes
TRIGGER:-PT5M
END:VALARM
END:VEVENT
BEGIN:VEVENT
SUMMARY:Break
DTSTART:20201003T091000Z
DTEND:20201003T092500Z
DTSTAMP:20260419T231114Z
UID:session/44z3Rg69Q4VdYffg6tDMDR@hasgeek.com
SEQUENCE:0
CREATED:20200830T115018Z
DESCRIPTION:\n
LAST-MODIFIED:20200830T115021Z
LOCATION:Online
ORGANIZER;CN=Rootconf:MAILTO:no-reply@hasgeek.com
BEGIN:VALARM
ACTION:display
DESCRIPTION:Break in 5 minutes
TRIGGER:-PT5M
END:VALARM
END:VEVENT
BEGIN:VEVENT
SUMMARY:Q&A session
DTSTART:20201003T092500Z
DTEND:20201003T100000Z
DTSTAMP:20260419T231114Z
UID:session/NFEvQ5AvvC91THPV5H3zaj@hasgeek.com
SEQUENCE:0
CREATED:20200830T115029Z
DESCRIPTION:\n
LAST-MODIFIED:20200830T115033Z
LOCATION:Online
ORGANIZER;CN=Rootconf:MAILTO:no-reply@hasgeek.com
BEGIN:VALARM
ACTION:display
DESCRIPTION:Q&A session in 5 minutes
TRIGGER:-PT5M
END:VALARM
END:VEVENT
BEGIN:VEVENT
SUMMARY:Summary and closing
DTSTART:20201003T100000Z
DTEND:20201003T101000Z
DTSTAMP:20260419T231114Z
UID:session/LohS4kNqmsr2ua1hyBDvXh@hasgeek.com
SEQUENCE:0
CREATED:20200830T115041Z
DESCRIPTION:\n
LAST-MODIFIED:20200830T115043Z
LOCATION:Online
ORGANIZER;CN=Rootconf:MAILTO:no-reply@hasgeek.com
BEGIN:VALARM
ACTION:display
DESCRIPTION:Summary and closing in 5 minutes
TRIGGER:-PT5M
END:VALARM
END:VEVENT
END:VCALENDAR
